BEGIN:VCALENDAR
VERSION:2.0
PRODID:-//Jazz-Initiative Eifel e. V.//NONSGML kigkonsult.se iCalcreator 2.41.92//
CALSCALE:GREGORIAN
METHOD:PUBLISH
UID:62386338-6532-4632-b162-323736316434
X-WR-CALNAME:iCagenda
X-WR-CALDESC:Event Management Extension for Joomla!
X-WR-RELCALID:3E26604A-50F4-4449-8B3E-E4F4932D05B5
X-WR-TIMEZONE:UTC
BEGIN:VTIMEZONE
TZID:UTC
END:VTIMEZONE
BEGIN:VEVENT
UID:31326533-3166-4639-b937-636565356635
DTSTAMP:20260420T143455Z
CATEGORIES:Allgemein
CLASS:PUBLIC
DESCRIPTION;ALTREP="CID:<FFFF__=0ABBE548DFE235B58f9e8a93d@coffeebean.com>":
 Mrs. King &amp\; Her Jewels“&nbsp\; werden die Besucher mitreißen\n„Ruhig 
 sitzen bleiben ist bei dieser Band nicht möglich. Die Musik provoziert Bew
 egung\, es wird ein Feuerwerk\,“ so ein Veranstalter. Und das ist nicht zh
 uviel versprochen.\n„Mrs King &amp\; Her Jewels“ ist eine brandheiße Forma
 tion um die charismatische Sängerin &nbsp\;und Namensgeberin Meike König. 
 Unter dem Motto: „Let the good times roll“ begibt sich ein mitreißendes Qu
 intett auf die Bühne\, um ein musikalisches Feuerwerk anzuzünden und beste
  Laune zu verbreiten!\nKönig ist eine sensibel große Stimme\, die es aber 
 auch schafft\, raue und herbe Töne anzustimmen und somit locker die Bühne 
 zu rocken. Im Stil von Etta James oder Bessie &nbsp\;Smith reicht ihr Prog
 ramm von Blues\, Boogie Woogie\, Soul bis hin zu Rock `N Roll.\nViel Abwec
 hslung und Showbusiness!\nIhre Juwelen Marius Labsch am Piano\, Bluesharpe
 r Frank Rihm\, Stephan Roffmann am Kontrabass sowie der German Blues Award
  Gewinner Andreas Bock am Schlagzeug sind erstklassige Musiker\, die Unter
 haltung auf höchsten Niveau darbieten. Mit riesiger Spieldynamik und große
 r Energie zelebrieren sie die Musik und rollen den Teppich für ihre charma
 nte Frontfrau aus.\nHier wird ein Konzert der Spitzenklasse geboten. Das Q
 uintett begibt sich mit ihrer irren Spielfreude an den Rand des Wahnsinns 
 und die Bühne wird zum großen Spielball von Musik und Emotionen. Möglicher
 weise wird die Luft knapp! Tanzen ausdrücklich erwünscht!\n„Mrs. King &amp
 \; Her Jewels“ spielen am Mittwoch\, 19. August 2026 ab 19 Uhr auf der Büh
 ne im Bedagarten. Bei ungünstigem Wetter wird im Festsaal des Hauses Beda 
 gespielt. Der Eintritt ist&nbsp\; frei.\nDas Summer-Jazz Festival 2026 im 
 Bedagarten ist eine Gemeinschaftsveranstaltung der Jazz-Initiative Eifel\,
  der Kulturgemeinschaft Bitburg und der Dr.-Hanns-Simon-Stiftung.\n&nbsp\;
 Foto: Tino Röger
DTSTART:20260819T190000Z
DTEND:20260819T190000Z
GEO:00;0
LOCATION:Bitburg\, Bedagarten
ORGANIZER:
SEQUENCE:1
SUMMARY:Summer-Jazz Festival Bitburg: Mrs. King & Her Jewels“  werden die B
 esucher mitreißen
TRANSP:OPAQUE
URL:http://jazztaxi.de/termine/729-summer-jazz-festival-mrs-king-her-jewels
 -werden-die-besucher-mitreissen/2026-08-19-19-00
END:VEVENT
END:VCALENDAR
