BEGIN:VCALENDAR
VERSION:2.0
PRODID:-//Jazz-Initiative Eifel e. V.//NONSGML kigkonsult.se iCalcreator 2.41.92//
CALSCALE:GREGORIAN
METHOD:PUBLISH
UID:35663265-6465-4132-b933-633937663536
X-WR-CALNAME:iCagenda
X-WR-CALDESC:Event Management Extension for Joomla!
X-WR-RELCALID:3E26604A-50F4-4449-8B3E-E4F4932D05B5
X-WR-TIMEZONE:UTC
BEGIN:VTIMEZONE
TZID:UTC
END:VTIMEZONE
BEGIN:VEVENT
UID:30343265-6231-4230-b765-373261306230
DTSTAMP:20260420T143449Z
CATEGORIES:Allgemein
CLASS:PUBLIC
DESCRIPTION;ALTREP="CID:<FFFF__=0ABBE548DFE235B58f9e8a93d@coffeebean.com>":
 Wenn die Musik gefällt: Blame it on Frank!\nWenn sie nicht gefällt\,&nbsp\
 ; natürlich auch. Frank – das ist der fiktive musikalische Sündenbock der 
 Band\, für alles verantwortlich. Blame it on Frank ist eine Band aus der R
 egion erfahren und professionell.\nIhre Musik ist manchmal funky\, manchma
 l bluesig\, manchmal flott\, manchmal jazzig\, immer Groove\, immer schön!
 \nSo\, oder so ähnlich\, könnte man die Musik von ‚…blame it on Frank!‘ be
 schreiben.\nMan kann die Band nicht\, wie oft so gerne\, in eine einzige M
 usikrichtungsschublade stecken\, denn diese 6er-Formation spielt einfach w
 orauf sie Lust hat.\nKeinen Mainstream\, keine Top-40s...\, keine Schublad
 e passt so richtig. Eigentlich völlig konzeptlos\, aber mit viel Geschmack
  für schöne Klänge und Grooves\, energiegeladen\, zum Mitwippen.\nZum größ
 ten Teil besteht das Programm aus aufgefrischten\, gecoverten Songs von z.
 B.: Sting\, The Police\, Chick Corea\, Mezzoforte\, Marcus Miller\, Kraan\
 , Hellmut Hattler\, Bruce Conte (Power of Tower)\, Depeche Mode\, u.a..\nE
 inige Eigenkompositionen haben mittlerweile auch den Weg ins Programm gefu
 nden\, und es werden mehr!\nVier der sechs Musiker spielten schon vor 40+ 
 Jahren in diversen musikalischen Konstellationen zusammen und fanden nun\,
  nach langer Zeit (das Leben kam irgendwie dazwischen) wieder zueinander. 
 Mit Esther Millward als Sängerin und Jürgen Kill am Saxophon wurde die Ban
 d komplett!\nEsther Millward (Gesang)\, Erhard Hoffmann (Keyboards)\, Mich
 ael Weins (Gitarren und Soundschnipselmachine)\, Frank Heinrichs (Schlagze
 ug)\, Jürgen Kill (Saxophone) und Richie (Bassgitarre) drücken jedem Song 
 ihren angenehmen\, hörenswerten Stempel auf. Man sieht und hört der Band i
 hre erfrischende Spielfreude in jeder Sekunde an! Diese Formation hat und 
 macht Spaß!\nBlame it on Frank spielt am Mittwoch\, 12. August 2026 ab 19 
 Uhr auf der Bühne im Bedagarten. Bei ungünstigem Wetter wird im Festsaal d
 es Hauses Beda gespielt. Der Eintritt ist&nbsp\; frei.\nDas Summer-Jazz Fe
 stival 2026 im Bedagarten ist eine Gemeinschaftsveranstaltung der Jazz-Ini
 tiative Eifel\, der Kulturgemeinschaft Bitburg und der Dr.-Hanns-Simon-Sti
 ftung.\nFoto: Band
DTSTART:20260812T190000Z
DTEND:20260812T190000Z
GEO:00;0
LOCATION:Bitburg\, Bedagarten
ORGANIZER:
SEQUENCE:1
SUMMARY:Summer-Jazz Festival Bitburg: Wenn die Musik gefällt: Blame it on F
 rank!
TRANSP:OPAQUE
URL:http://jazztaxi.de/termine/728-summer-jazz-festival-bitburg-wenn-die-mu
 sik-gefaellt-blame-it-on-frank/2026-08-12-19-00
END:VEVENT
END:VCALENDAR
