BEGIN:VCALENDAR
VERSION:2.0
PRODID:-//Jazz-Initiative Eifel e. V.//NONSGML kigkonsult.se iCalcreator 2.41.92//
CALSCALE:GREGORIAN
METHOD:PUBLISH
UID:34616435-3230-4561-b830-633339653465
X-WR-CALNAME:iCagenda
X-WR-CALDESC:Event Management Extension for Joomla!
X-WR-RELCALID:3E26604A-50F4-4449-8B3E-E4F4932D05B5
X-WR-TIMEZONE:UTC
BEGIN:VTIMEZONE
TZID:UTC
END:VTIMEZONE
BEGIN:VEVENT
UID:66306131-6661-4366-a263-313865646537
DTSTAMP:20260420T130220Z
CATEGORIES:Jazzclub im Orpheum (Scheune des Konviktes)
CLASS:PUBLIC
DESCRIPTION;ALTREP="CID:<FFFF__=0ABBE548DFE235B58f9e8a93d@coffeebean.com>":
 Seit rund zehn Jahren tourt die «Roberto Bossard New Group» bereits in gan
 z Europa\, und das «New» im Namen bezieht sich nicht etwa auf die Bandbese
 tzung\, sondern auf den immer wieder neuen Spirit\, die kreativen Ideen\, 
 den ungebrochenen Enthusiasmus\, die die Band mit frischen eigenen Komposi
 tionen (sowie sorgfältig arrangierten Stücken anderer Künstler) immer wied
 er auf die Bühne zaubert. Getragen wird das Ganze von den fünf herausragen
 den Musikern\, die mit Virtuosität und einer tief gehenden Musikalität ein
  mitreißendes Erlebnis schaffen. Jeder Musiker bringt seine individuellen 
 Stärken ein\, was zu einem harmonischen Bandsound führt\, der unwiderstehl
 ich swingt und das Publikum in seinen Bann zieht. Ein besonderes Highlight
  ist der warme\, volle Klang von Roberto Bossards Gibson ES 5 aus dem Jahr
  1949\, deren Magie dank seines meisterhaften Spiels voll zur Geltung komm
 t. Die Musiker: Roberto Bossard\, Gitarre Seit über vier Jahrzehnten prägt
  Roberto Bossard die Jazzszene als Gitarrist. Er ist tief in der Tradition
  des Jazz verwurzelt\, doch anstatt sich nostalgisch in der Vergangenheit 
 zu verlieren\, richtet er sein waches musikalisches Interesse auf die viel
 fältige heutige Szene. Als Interpret und Komponist bringt er diese Einflüs
 se in seine Musik ein und schafft so einen zeitlosen\, aber modernen Sound
 . Toni Bechtold\, Saxophon Der aus Heidenheim an der Brenz stammende Toni 
 Bechtold hat nach seinen Studienjahren in Luzern die Jazzszene in der Schw
 eiz und darüber hinaus erobert. Mit technischer Brillanz und musikalischer
  Tiefe meistert er auch die anspruchsvollsten Passagen und verleiht ihnen 
 eine scheinbare Leichtigkeit\, die das Publikum begeistert. Lukas Gernet\,
  Piano Aufgewachsen in einer Musikerfamilie\, die in der Schweizer 'Ländle
 r Musikszene' aktiv ist\, erkannte Lukas Gernet früh die unendlichen Facet
 ten der Musik. Sein anfänglicher klassischer Unterricht hat seine musikali
 sche Entwicklung maßgeblich geprägt. Doch erst in der Freiheit des Jazz fa
 nd er seine wahre musikalische Identität. Gernet besticht durch seine soli
 stischen Fähigkeiten und seine kunstvolle\, einfühlsame Begleitung\, die i
 hn zu einem herausragenden Pianisten macht. Raffaele Bossard\, Bass Raffae
 le Bossard ist ein gefragter Musiker\, der in ganz Europa mit den bedeuten
 dsten Vertretern des modernen Jazz unterwegs ist. Seine wenigen freien Ter
 mine sind kostbar\, und er erlaubt sich\, wählerisch zu sein – zu Recht\, 
 denn er gehört zu den besten Kontrabassisten des Landes und darüber hinaus
 . Rhythmisch ein Fels in der Brandung\, überraschen seine Improvisationen 
 immer wieder aufs Neue\, und sein kraftvoller Sound lässt keine Wünsche of
 fen. Dominic Egli\, Schlagzeug Dominic Egli\, begann bereits im Alter von 
 zehn Jahren zu trommeln. Seine Ausbildung an der Jazzschule Bern und am Dr
 ummers Collective in New York sowie sein Studium bei Meisterbassisten und 
 Trommelgruppen in Ghana haben ihn zu einem vielseitigen und kreativen Musi
 ker geformt. Als Leiter seiner Band «PLURISM» und Mitglied zahlreicher Ban
 ds hat er sich in der Jazzszene einen Namen gemacht. Der Preisträger mehre
 rer Wettbewerbe spielte bereits mit Größen wie Andy Scherrer\, Franco Ambr
 osetti\, und Dave Douglas und ist auf über 45 CDs zu hören.\nVeranstaltung
  im Rahmen der Partnerschaft zwischen den Vereinen Bluebird Music ASBL und
  Jazzinitiative Eifel e. V. bezüglich der Mobilität von Musikensembles zwi
 schen Luxemburg und Rheinland-Pfalz.\n&nbsp\;
DTSTART:20260506T200000Z
DTEND:20260506T220000Z
GEO:+50.205353;+6.420434
LOCATION:Orpheum Prüm
ORGANIZER;CN=:mailto:info@jazzei.de
SEQUENCE:1
SUMMARY:Roberto Bossard New Group im Orpheum Prüm
TRANSP:OPAQUE
URL:http://jazztaxi.de/termine/705-roberto-bossard-new-group-im-orpheum-pru
 em
END:VEVENT
END:VCALENDAR
