BEGIN:VCALENDAR
VERSION:2.0
PRODID:-//Jazz-Initiative Eifel e. V.//NONSGML kigkonsult.se iCalcreator 2.41.92//
CALSCALE:GREGORIAN
METHOD:PUBLISH
UID:38313134-6266-4932-b233-663362333330
X-WR-CALNAME:iCagenda
X-WR-CALDESC:Event Management Extension for Joomla!
X-WR-RELCALID:3E26604A-50F4-4449-8B3E-E4F4932D05B5
X-WR-TIMEZONE:UTC
BEGIN:VTIMEZONE
TZID:UTC
END:VTIMEZONE
BEGIN:VEVENT
UID:61393562-3638-4338-a433-326363663735
DTSTAMP:20260420T143313Z
CATEGORIES:Jazzclub
CLASS:PUBLIC
DESCRIPTION;ALTREP="CID:<FFFF__=0ABBE548DFE235B58f9e8a93d@coffeebean.com>":
 Bitburger Jazzclub präsentiert das TIMEBASE – Trio\nZum ersten MAL SPIELT 
 DIES Trio im Jazzclub\, die Veranstalter möchten damit eine weitere Varian
 te der Boogie Musik zeigen.\nDie FOURTEEN BOOGIES von Komponist und Jazz-P
 ianist Felix Janosa sind eine NEU-DEFINITION des Genres Boogie Woogie. Vol
 ler Energie und Spielfreude verschiebt das neu gegründete Trio TIMEBASE &n
 bsp\;die stilistischen und tonartlichen Grenzen und stößt in musikalische 
 Welten vor\, die noch nie ein Boogie-Pianist betreten hat. Drei hochversie
 rte Musiker aus Aachen\, die sich nicht um Genre-Grenzen kümmern\, sondern
  vor allem eins wollen: Das Publikum zum Staunen\, Mitfiebern und Swingen 
 zu bringen....\nEs spielen Johannes Flamm - Saxofone\, Klarinette / Steffe
 n Thormählen - Drums / Felix Janosa - Piano\, Gesang\nMan darf gespannt se
 in.
DTSTART:20261207T200000Z
DTEND:20261207T200000Z
GEO:00;0
LOCATION:Jazz-Ballroom im Bowling Center Bitburg\, Charles-Lindbergh-Allee 
 5
ORGANIZER:
SEQUENCE:1
SUMMARY:Bitburger Jazzclub präsentiert das TIMEBASE – Trio
TRANSP:OPAQUE
URL:http://jazztaxi.de/termine/701-bitburger-jazzclub-praesentiert-das-time
 base-trio/2026-12-07-20-00
END:VEVENT
END:VCALENDAR
