BEGIN:VCALENDAR
VERSION:2.0
PRODID:-//Jazz-Initiative Eifel e. V.//NONSGML kigkonsult.se iCalcreator 2.41.92//
CALSCALE:GREGORIAN
METHOD:PUBLISH
UID:39363330-3739-4736-b532-373636636531
X-WR-CALNAME:iCagenda
X-WR-CALDESC:Event Management Extension for Joomla!
X-WR-RELCALID:3E26604A-50F4-4449-8B3E-E4F4932D05B5
X-WR-TIMEZONE:UTC
BEGIN:VTIMEZONE
TZID:UTC
END:VTIMEZONE
BEGIN:VEVENT
UID:61633530-6635-4465-a238-633538646631
DTSTAMP:20260420T164730Z
CATEGORIES:Allgemein
CLASS:PUBLIC
DESCRIPTION;ALTREP="CID:<FFFF__=0ABBE548DFE235B58f9e8a93d@coffeebean.com>":
 „COINCIDENCE – PROJECT IN PROGRESS“\nSzymon Brzóska |&nbsp\;composer&nbsp\
 ;&amp\; piano\nBarbara Drazkov |&nbsp\;prepared piano Maria Kulowska |&nbs
 p\;cello\,&nbsp\;e-cello\, loop&nbsp\;station\, sound effects Mara Hanish 
 |&nbsp\;video projections\n„Coincidence“ is an interdisciplinary performan
 ce by Brzóska\, Drazkov\, Hanish and Kulowska. It combines sound of the pi
 ano prepared with diverse&nbsp\;objects inserted between the strings\, aco
 ustic and electric cello with various sound effects\, spoken text and vide
 o projections.\nConcept of the performance in which artists try to describ
 e the nature of coincidence was born during the artistic residency at ZSen
 ne ARTlab in Brussels in September 2018.\nFor one week in April 2019 Brzós
 ka\, Drazkov\, Hanish and Kulowska will be residents at Scheune in Minden.
  They will create new music and new videos. The results of their work in B
 russels and in Minden will be combined in one performance and presented to
  the public at the event closing their artistic residency.\n„Coincidence“ 
 ist eine interdisziplinäre Performance von Brzóska\, Drazkov\, Hanish and 
 Kulowska. Sie verbinden die Klänge des Pianos mit der Akustik der Streiche
 r und des e-cellos. Diese Klänge werden kombiniert mit verschiedenen Sound
 effekten und Videoprojektionen.\nEintritt 15 Euro
DTSTART:20190412T200000Z
DTEND:20190412T220000Z
GEO:00;0
LOCATION:Kulturscheune Echternacher Str. 1 54310 Minden
ORGANIZER:
SEQUENCE:1
SUMMARY:„COINCIDENCE – PROJECT IN PROGRESS“
TRANSP:OPAQUE
URL:http://jazztaxi.de/alle-termine/85-coincidence-project-in-progress
END:VEVENT
END:VCALENDAR
