BEGIN:VCALENDAR
VERSION:2.0
PRODID:-//Jazz-Initiative Eifel e. V.//NONSGML kigkonsult.se iCalcreator 2.41.92//
CALSCALE:GREGORIAN
METHOD:PUBLISH
UID:34353532-3230-4336-b337-653865303430
X-WR-CALNAME:iCagenda
X-WR-CALDESC:Event Management Extension for Joomla!
X-WR-RELCALID:3E26604A-50F4-4449-8B3E-E4F4932D05B5
X-WR-TIMEZONE:UTC
BEGIN:VTIMEZONE
TZID:UTC
END:VTIMEZONE
BEGIN:VEVENT
UID:30363165-3232-4262-a262-613739323033
DTSTAMP:20260420T154242Z
CATEGORIES:Summer-Jazz Festival
CLASS:PUBLIC
DESCRIPTION;ALTREP="CID:<FFFF__=0ABBE548DFE235B58f9e8a93d@coffeebean.com>":
 Big Band der Berufsbildenden Schule für Gewerbe und Technik ist seit mehr 
 als 20 Jahren in Trier verwurzelt und beheimatet.\nRund 20 von Jazz begeis
 terte Liebhaber handgemachter und mundgeblasener Live-Musik haben ein abwe
 chslungsreiches Überraschungsmenü aus perlendem und sympathisch serviertem
  Swing vorbereitet mit prickelnden Rhythmen\, scharf gewürzten Latins\, za
 rter Gänsehaut von samtigen Balladen und weich wallenden Bossa Novas.\nBek
 annte Titel und Arrangements von Count Basie\, Duke Ellington\, Dizzy Gill
 espie\, Peter Herbolzheimer\, Glenn Miller\, Sammy Nestico\, Cole Porter u
 . v. m. sind die\nBeilagen oder - wenn gewünscht - das Hauptgericht\, deze
 nt garniert und abgeschmeckt mit coolem Funk und fetzigem Rock.\nDurch Exp
 erimentierfreude\, Offenheit für ein breites Repertoire\, namhafte Dozente
 n und viel Spaß miteinander konnte in mehr als 20 Jahren\neine musikalisch
 e Evolution ablaufen\, durch die wir uns mit unseren Auftritten\nan den Ku
 lturstätten der Mosel\, Saar und Ruwer\, in Luxemburg\, in Ascoli Piceno u
 nd andernorts zu einem festen Bestandteil der regionalen Musikszene entwic
 kelt haben.\nDie Bigband Rhythm and Blech spielt am Mittwoch\, 22. 8. 2018
  ab 19 Uhr im Bedagarten.\nSummer-Jazz im Bedagarten ist eine Gemeinschaft
 sveranstaltung der Jazz-Initiative Eifel\, der Kulturgemeinschaft Bitburg 
 und der Dr.-Hanns-Simon-Stiftung.\nwww.jazzei.de\nHomepage:\nhttp://www.rh
 ythm-and-blech.de.vu
DTSTART:20180822T190000Z
DTEND:20180822T213000Z
GEO:00;0
LOCATION:Garten Haus Beda\, Bitburg
ORGANIZER:
SEQUENCE:1
SUMMARY:Bigband „Rhythm & Blech“ swingt im Bedagarten
TRANSP:OPAQUE
URL:http://jazztaxi.de/alle-termine/8-bigband-rhythm-blech-swingt-im-bedaga
 rten
END:VEVENT
END:VCALENDAR
