BEGIN:VCALENDAR
VERSION:2.0
PRODID:-//Jazz-Initiative Eifel e. V.//NONSGML kigkonsult.se iCalcreator 2.41.92//
CALSCALE:GREGORIAN
METHOD:PUBLISH
UID:34333636-6131-4736-a634-303932353061
X-WR-CALNAME:iCagenda
X-WR-CALDESC:Event Management Extension for Joomla!
X-WR-RELCALID:3E26604A-50F4-4449-8B3E-E4F4932D05B5
X-WR-TIMEZONE:UTC
BEGIN:VTIMEZONE
TZID:UTC
END:VTIMEZONE
BEGIN:VEVENT
UID:38653133-6437-4337-a465-346235343966
DTSTAMP:20260420T154012Z
CATEGORIES:Kulturfreunde-Pruem
CLASS:PUBLIC
DESCRIPTION;ALTREP="CID:<FFFF__=0ABBE548DFE235B58f9e8a93d@coffeebean.com>":
 Auf ein Glas Wein mit dem Autor Zwischen Krone und Kreuz Codex Mancini His
 torischer Kriminalroman Geschrieben und gelesen von Siegfried Maerz
DTSTART:20260222T180000Z
DTEND:20260222T191500Z
GEO:+50.205349;+6.42044
LOCATION:Orpheum Prüm
ORGANIZER:
SEQUENCE:1
SUMMARY:Auf ein Glas Wein  mit dem Autor
TRANSP:OPAQUE
URL:http://jazztaxi.de/alle-termine/775-autorenlesung
END:VEVENT
END:VCALENDAR
