BEGIN:VCALENDAR
VERSION:2.0
PRODID:-//Jazz-Initiative Eifel e. V.//NONSGML kigkonsult.se iCalcreator 2.41.92//
CALSCALE:GREGORIAN
METHOD:PUBLISH
UID:39383966-6632-4934-b061-653031666433
X-WR-CALNAME:iCagenda
X-WR-CALDESC:Event Management Extension for Joomla!
X-WR-RELCALID:3E26604A-50F4-4449-8B3E-E4F4932D05B5
X-WR-TIMEZONE:UTC
BEGIN:VTIMEZONE
TZID:UTC
END:VTIMEZONE
BEGIN:VEVENT
UID:63333662-3264-4238-a339-353230376361
DTSTAMP:20260420T155854Z
CATEGORIES:Allgemein
CLASS:PUBLIC
DESCRIPTION;ALTREP="CID:<FFFF__=0ABBE548DFE235B58f9e8a93d@coffeebean.com>":
 Erleben Sie die Magie dieses luxemburgischen Jazz-Trios höchster Güte\, mi
 t Paulo Simões an der Jazzgitarre\, Laurent Payfert am Kontrabass und Beno
 ît Martiny am Schlagzeug. Freuen Sie sich auf einen Abend voller außergewö
 hnlicher Jazz-Kunst.\nBesetzung:\n\nPaulo Simões (Halbresonanzgitarre)\nLa
 urent Payfert (Kontrabass)\nBenoît Martiny (Schlagzeug)\n\n\nIn Kooperatio
 n mit Bluebird Music ASBL https://blue-bird.lu/\nMit der finanziellen Unte
 rstützung des&nbsp\;Restaurants JANE.
DTSTART:20260118T200000Z
DTEND:20260118T220000Z
GEO:00;0
LOCATION:Restaurant JANE\, Wickrange
ORGANIZER:
SEQUENCE:1
SUMMARY:Paulo Simões Trio
TRANSP:OPAQUE
URL:http://jazztaxi.de/alle-termine/771-paulo-simoes-trio/2026-01-18-20-00
END:VEVENT
END:VCALENDAR
