BEGIN:VCALENDAR
VERSION:2.0
PRODID:-//Jazz-Initiative Eifel e. V.//NONSGML kigkonsult.se iCalcreator 2.41.92//
CALSCALE:GREGORIAN
METHOD:PUBLISH
UID:39633364-3731-4230-b961-353838393761
X-WR-CALNAME:iCagenda
X-WR-CALDESC:Event Management Extension for Joomla!
X-WR-RELCALID:3E26604A-50F4-4449-8B3E-E4F4932D05B5
X-WR-TIMEZONE:UTC
BEGIN:VTIMEZONE
TZID:UTC
END:VTIMEZONE
BEGIN:VEVENT
UID:64643839-3466-4661-b631-373935373833
DTSTAMP:20260420T154808Z
CATEGORIES:Allgemein
CLASS:PUBLIC
DESCRIPTION;ALTREP="CID:<FFFF__=0ABBE548DFE235B58f9e8a93d@coffeebean.com>":
 Trioon ist eine führerlose Jazz-Arbeitsgruppe\, bestehend aus den Musikern
  Maxime Bender (Tenorsaxophon)\, Stefano Agostini (Kontrabass) und Jeff He
 rr (Schlagzeug). Obwohl ihre ersten Begegnungen als Trio bis ins Jahr 2018
  zurückverfolgt werden können\, hat dieses Trio nie aufgehört\, das Ergebn
 is des Glaubens zu sein\, dass Jazzkomponisten und -interpreten in einer p
 rivilegierten Position sind\, um die perfekten Fahrzeuge für sich selbst a
 ls Improvisateure zu schaffen. Die Performance des Trios führt das Publiku
 m durch einen Abend voller lebendiger und energetischer Musik.\nBesetzung:
 \n\nMaxime Bender (Saxofon)\nStefano Agostini (Kontrabass)\nJeff herr (Sch
 lagzeug)\n\n\nIn Kooperation mit Bluebird Music ASBL https://blue-bird.lu/
 \nMit der finanziellen Unterstützung des&nbsp\;Restaurants JANE.
DTSTART:20260129T200000Z
DTEND:20260129T220000Z
GEO:00;0
LOCATION:Restaurant JANE\, Wickrange
ORGANIZER:
SEQUENCE:1
SUMMARY:Trioon
TRANSP:OPAQUE
URL:http://jazztaxi.de/alle-termine/770-trioon-2/2026-01-29-20-00
END:VEVENT
END:VCALENDAR
