BEGIN:VCALENDAR
VERSION:2.0
PRODID:-//Jazz-Initiative Eifel e. V.//NONSGML kigkonsult.se iCalcreator 2.41.92//
CALSCALE:GREGORIAN
METHOD:PUBLISH
UID:66313939-3031-4762-b762-663062373430
X-WR-CALNAME:iCagenda
X-WR-CALDESC:Event Management Extension for Joomla!
X-WR-RELCALID:3E26604A-50F4-4449-8B3E-E4F4932D05B5
X-WR-TIMEZONE:UTC
BEGIN:VTIMEZONE
TZID:UTC
END:VTIMEZONE
BEGIN:VEVENT
UID:30366536-3765-4164-a666-306563346565
DTSTAMP:20260420T165300Z
CATEGORIES:Allgemein
CLASS:PUBLIC
DESCRIPTION;ALTREP="CID:<FFFF__=0ABBE548DFE235B58f9e8a93d@coffeebean.com>":
 Eröffnung der EVBK-Ausstellung mit dem Benno-Raabe-Trio\nSchon seit vielen
  Jahren gehören sie dazu\, die Musiker vom Benno-Raabe-Trio. Sie umrahmen 
 die Eröffnungsreden und unterhalten die vielen Gäste mit ihrer hoch intere
 ssanten und angenehmen Swingmusik.\n&nbsp\;\n&nbsp\;\nFoto: Rolf Mrotzek\n
 &nbsp\;
DTSTART:20190706T150000Z
DTEND:20190706T173000Z
GEO:00;0
LOCATION:
ORGANIZER:
SEQUENCE:1
SUMMARY:EVBK-Vernissage mit dem Benno-Raabe-Trio
TRANSP:OPAQUE
URL:http://jazztaxi.de/alle-termine/77-evbk-vernissage-mit-dem-benno-raabe-
 trio
END:VEVENT
END:VCALENDAR
