BEGIN:VCALENDAR
VERSION:2.0
PRODID:-//Jazz-Initiative Eifel e. V.//NONSGML kigkonsult.se iCalcreator 2.41.92//
CALSCALE:GREGORIAN
METHOD:PUBLISH
UID:66613638-6435-4231-a364-333737626336
X-WR-CALNAME:iCagenda
X-WR-CALDESC:Event Management Extension for Joomla!
X-WR-RELCALID:3E26604A-50F4-4449-8B3E-E4F4932D05B5
X-WR-TIMEZONE:UTC
BEGIN:VTIMEZONE
TZID:UTC
END:VTIMEZONE
BEGIN:VEVENT
UID:30653663-3831-4537-a139-663138363261
DTSTAMP:20260420T154915Z
CATEGORIES:Allgemein
CLASS:PUBLIC
DESCRIPTION;ALTREP="CID:<FFFF__=0ABBE548DFE235B58f9e8a93d@coffeebean.com>":
 Nehmen Sie an einer monatlichen Jam Session mit unserer Liquid Blues House
  Band teil\, bei der Amateur- und gestandene Bluesmusiker zusammenkommen\,
  um fantastische Musik zu machen. In der letzten Woche eines jeden Monats 
 ist dies die perfekte Gelegenheit\, Ihr Können zu zeigen\, sich mit andere
 n Musikern auszutauschen und in die gefühlvollen Klänge des Blues einzutau
 chen. Lassen Sie sich dieses mitreißende Erlebnis nicht entgehen!\nUnsere 
 Liquid Blues Jam-Sessions werden von Tommy Boy Lehnert (Schlagzeug) geleit
 et\, und die Besetzung kann von Session zu Session variieren.\n\nIn Kooper
 ation mit Bluebird Music ASBL https://blue-bird.lu/\nMit der finanziellen 
 Unterstützung von Liquid Bar\, dem luxemburgischen Ministerium für Kultur\
 , der Stadt Luxemburg und SACEM.
DTSTART:20260226T203000Z
DTEND:20260226T230000Z
GEO:00;0
LOCATION:Liquid Bar\, Luxemburg
ORGANIZER:
SEQUENCE:1
SUMMARY:Liquid Blues Jam Session
TRANSP:OPAQUE
URL:http://jazztaxi.de/alle-termine/764-liquid-blues-jam-session-17/2026-02
 -26-20-30
END:VEVENT
END:VCALENDAR
