BEGIN:VCALENDAR
VERSION:2.0
PRODID:-//Jazz-Initiative Eifel e. V.//NONSGML kigkonsult.se iCalcreator 2.41.92//
CALSCALE:GREGORIAN
METHOD:PUBLISH
UID:35316636-3034-4530-a664-303865323530
X-WR-CALNAME:iCagenda
X-WR-CALDESC:Event Management Extension for Joomla!
X-WR-RELCALID:3E26604A-50F4-4449-8B3E-E4F4932D05B5
X-WR-TIMEZONE:UTC
BEGIN:VTIMEZONE
TZID:UTC
END:VTIMEZONE
BEGIN:VEVENT
UID:31623432-6230-4333-b830-386138356339
DTSTAMP:20260420T141953Z
CATEGORIES:Allgemein
CLASS:PUBLIC
DESCRIPTION;ALTREP="CID:<FFFF__=0ABBE548DFE235B58f9e8a93d@coffeebean.com>":
 Das Duo interpretiert Standards aus dem Folk-\, Blues- und Country-Reperto
 ire im Stil von Johnny Cash und Willie Nelson.\nBesetzung:\n\nIvan Lecuit 
 Simões - Gesang und akustische Gitarre\nPaulo Simões - akustische Gitarre
 \n\n\nMit der finanziellen Unterstützung von Liquid Bar\, dem luxemburgisc
 hen Ministerium für Kultur\, der Stadt Luxemburg und SACEM.
DTSTART:20260412T170000Z
DTEND:20260412T190000Z
GEO:00;0
LOCATION:Liquid Bar\, Luxemburg
ORGANIZER:
SEQUENCE:1
SUMMARY:Ivan Lecuit Simões Duo
TRANSP:OPAQUE
URL:http://jazztaxi.de/alle-termine/763-ivan-lecuit-simoes-duo-2/2026-04-12
 -17-00
END:VEVENT
END:VCALENDAR
