BEGIN:VCALENDAR
VERSION:2.0
PRODID:-//Jazz-Initiative Eifel e. V.//NONSGML kigkonsult.se iCalcreator 2.41.92//
CALSCALE:GREGORIAN
METHOD:PUBLISH
UID:65356438-3536-4238-b031-613239366139
X-WR-CALNAME:iCagenda
X-WR-CALDESC:Event Management Extension for Joomla!
X-WR-RELCALID:3E26604A-50F4-4449-8B3E-E4F4932D05B5
X-WR-TIMEZONE:UTC
BEGIN:VTIMEZONE
TZID:UTC
END:VTIMEZONE
BEGIN:VEVENT
UID:63663039-3539-4232-b765-393964303938
DTSTAMP:20260420T153656Z
CATEGORIES:Allgemein
CLASS:PUBLIC
DESCRIPTION;ALTREP="CID:<FFFF__=0ABBE548DFE235B58f9e8a93d@coffeebean.com>":
 Verpassen Sie nicht die Gelegenheit\, Kid Colling bei einer Solo-Performan
 ce zu erleben\, in der er sein Talent als Sänger und Gitarrist zeigt. Dies
 es intime akustische Erlebnis enthält eine Mischung aus gefühlvollen Origi
 nalkompositionen und neu interpretierten Rock- und Blues-Klassikern. Kids 
 kraftvolle\, aber nuancierte Stimme\, kombiniert mit seinem komplexen Gita
 rrenspiel\, schafft eine fesselnde Atmosphäre\, die die Zuhörer in seine m
 usikalische Welt einlädt. Ob er herzliche Originals präsentiert oder seine
  einzigartige Interpretation zeitloser Stücke bietet\, Kids Kunst sorgt fü
 r ein unvergessliches und tief berührendes Erlebnis für alle Anwesenden.\n
 Line-up\n\nKid Colling (Gesang\, Gitarre)\n\nhttps://kidcolling.com\n\nIm 
 Rahmen der Bluebird Sunday Acoustic Sessions @ Liquid Bar.\nMit der finanz
 iellen Unterstützung von Liquid Bar\, dem luxemburgischen Ministerium für 
 Kultur\, der Stadt Luxemburg und SACEM.
DTSTART:20260308T170000Z
DTEND:20260308T190000Z
GEO:00;0
LOCATION:Liquid Bar\, Luxemburg
ORGANIZER:
SEQUENCE:1
SUMMARY:Kid Colling
TRANSP:OPAQUE
URL:http://jazztaxi.de/alle-termine/762-kid-colling-2/2026-03-08-17-00
END:VEVENT
END:VCALENDAR
