BEGIN:VCALENDAR
VERSION:2.0
PRODID:-//Jazz-Initiative Eifel e. V.//NONSGML kigkonsult.se iCalcreator 2.41.92//
CALSCALE:GREGORIAN
METHOD:PUBLISH
UID:66646266-3036-4134-b832-313036366231
X-WR-CALNAME:iCagenda
X-WR-CALDESC:Event Management Extension for Joomla!
X-WR-RELCALID:3E26604A-50F4-4449-8B3E-E4F4932D05B5
X-WR-TIMEZONE:UTC
BEGIN:VTIMEZONE
TZID:UTC
END:VTIMEZONE
BEGIN:VEVENT
UID:66613534-3833-4238-b732-363164363966
DTSTAMP:20260420T154910Z
CATEGORIES:Allgemein
CLASS:PUBLIC
DESCRIPTION;ALTREP="CID:<FFFF__=0ABBE548DFE235B58f9e8a93d@coffeebean.com>":
 Luca Vaillancourt de Dios\, selbsternannter Songwriter\, der Folklore durc
 h eine poetische und zutiefst persönliche Linse neu interpretiert. Seine M
 usik ist eine Weiterentwicklung des modernen Songwritings — sie verwischt 
 die Grenzen zwischen Vergangenheit und Gegenwart\, Tradition und Innovatio
 n\, persönlicher Reflexion und universellen Erzählungen. Tief verwurzelt i
 n Metaphern und emotionaler Tiefe\, tragen seine Kompositionen das Gewicht
  von sich bewegenden Identitäten — immer im Wandel\, immer auf der Suche. 
 Mit meisterhafter Beherrschung der Gitarre schafft er eine Leinwand\, auf 
 der Kulturen verschmelzen\, und einen Puls\, der seinen komplexen\, sich s
 tändig weiterentwickelnden Klang leitet. Seine Stimme\, roh aber bewusst\,
  kanalisiert Erzählungen von Migration\, Zugehörigkeit und menschlicher Ze
 rbrechlichkeit. Seine Lieder bieten einen Raum für Reflexion\, nutzen die 
 heilende Kraft der Musik\, um Liebe und Verbindung zu vermitteln. Seine Ar
 beit drängt sich nicht auf\, sucht keinen Konflikt\; vielmehr lädt sie ein
 \, entdeckt und erschüttert auf eine zarte und tiefgründige Weise — sie er
 weitert musikalische Grenzen\, bleibt dabei aber zutiefst menschlich und z
 ugänglich. In einer Zeit\, in der Authentizität und emotionale Tiefe mehr 
 denn je gefragt sind\, positioniert sich Lucas Musik als zeitlos und notwe
 ndig. Sein Projekt ist nicht nur ein künstlerisches Vorhaben\, sondern ein
 e Aussage: Folklore lebt\, entwickelt sich ständig weiter und ist in der L
 age\, neue Generationen auf bedeutungsvolle und transformative Weise anzus
 prechen.\nBesetzung:\n\nLuca Vaillancourt de Dios (Akustikgitarre\, Gesang
 )\n\nhttps://lucavaillancourt.com/\nMit der finanziellen Unterstützung von
  Liquid Bar\, dem luxemburgischen Ministerium für Kultur\, der Stadt Luxem
 burg und SACEM.
DTSTART:20260222T170000Z
DTEND:20260222T190000Z
GEO:00;0
LOCATION:Liquid Bar\, Luxemburg
ORGANIZER:
SEQUENCE:1
SUMMARY:Luca Vaillancourt de Dios
TRANSP:OPAQUE
URL:http://jazztaxi.de/alle-termine/761-luca-vaillancourt-de-dios/2026-02-2
 2-17-00
END:VEVENT
END:VCALENDAR
