BEGIN:VCALENDAR
VERSION:2.0
PRODID:-//Jazz-Initiative Eifel e. V.//NONSGML kigkonsult.se iCalcreator 2.41.92//
CALSCALE:GREGORIAN
METHOD:PUBLISH
UID:37333939-3565-4931-a166-396432396333
X-WR-CALNAME:iCagenda
X-WR-CALDESC:Event Management Extension for Joomla!
X-WR-RELCALID:3E26604A-50F4-4449-8B3E-E4F4932D05B5
X-WR-TIMEZONE:UTC
BEGIN:VTIMEZONE
TZID:UTC
END:VTIMEZONE
BEGIN:VEVENT
UID:61323066-3639-4266-a535-626564346164
DTSTAMP:20260420T154807Z
CATEGORIES:Allgemein
CLASS:PUBLIC
DESCRIPTION;ALTREP="CID:<FFFF__=0ABBE548DFE235B58f9e8a93d@coffeebean.com>":
 Ausgestattet nur mit seiner Stimme und Gitarre bringt Bert Marijsse (Front
 mann der Bluesband The Nightcallers) seit 2009 rohe und ehrliche Musik auf
  jede Bühne. Sein Sound ist tief verwurzelt in den Traditionen des Delta B
 lues\, Hill Country Blues und Piedmont-Fingerpickings. Er spielt eigene Ko
 mpositionen und persönliche Interpretationen\, beeinflusst von Legenden wi
 e Mississippi Fred McDowell\, R.L. Burnside\, Lightning Hopkins\, Rev. Gar
 y Davis\, John Hurt und anderen.\nBesetzung:\n\nBert Marijsse (Gesang\, Gi
 ttare)\n\nhttps://www.facebook.com/bertmarijssemusic/\nMit der finanzielle
 n Unterstützung von Liquid Bar\, dem luxemburgischen Ministerium für Kultu
 r\, der Stadt Luxemburg und SACEM.
DTSTART:20260208T170000Z
DTEND:20260208T190000Z
GEO:00;0
LOCATION:Liquid Bar\, Luxemburg
ORGANIZER:
SEQUENCE:1
SUMMARY:Bert Marijsse
TRANSP:OPAQUE
URL:http://jazztaxi.de/alle-termine/760-bert-marijsse/2026-02-08-17-00
END:VEVENT
END:VCALENDAR
