BEGIN:VCALENDAR
VERSION:2.0
PRODID:-//Jazz-Initiative Eifel e. V.//NONSGML kigkonsult.se iCalcreator 2.41.92//
CALSCALE:GREGORIAN
METHOD:PUBLISH
UID:30383663-6134-4237-a663-303765643637
X-WR-CALNAME:iCagenda
X-WR-CALDESC:Event Management Extension for Joomla!
X-WR-RELCALID:3E26604A-50F4-4449-8B3E-E4F4932D05B5
X-WR-TIMEZONE:UTC
BEGIN:VTIMEZONE
TZID:UTC
END:VTIMEZONE
BEGIN:VEVENT
UID:34663661-3333-4561-a538-626437316363
DTSTAMP:20260420T155218Z
CATEGORIES:Allgemein
CLASS:PUBLIC
DESCRIPTION;ALTREP="CID:<FFFF__=0ABBE548DFE235B58f9e8a93d@coffeebean.com>":
 Blue-ish\, die sich selbst als „work in progress“ beschreibt\, ist eine Vo
 llzeit-Sängerin und Songwriterin\, geboren in Luxemburg mit französisch-de
 utschen Wurzeln.Fasziniert davon\, Emotionen in Worte und dann in Lieder z
 u verwandeln\, brachte sie sich das Gitarrespielen selbst bei\, während si
 e als Teenager auf der Straße gebuht hat. Letztendlich verwandelte sie die
 se Leidenschaft in eine Karriere und tritt landesweit auf\, wann immer sie
  ein Publikum findet.Etwas zerbrechlich\, ein wenig rauer Rand\, findet Bl
 ue-ish ihre Stärke auf der Bühne durch Ehrlichkeit. Ihre Lieder handeln vo
 n Liebe\, Leben und den chaotischen Realitäten\, dargestellt im Indie-Pop-
 Folk-Stil. Sie singt über ihre gelebten Erfahrungen\, ohne ihre Eindrücke 
 des 21. Jahrhunderts zu verherrlichen.Nachdem sie 2024 den Screaming Field
 s Festival Contest gewonnen hat\, konzentriert sie sich nun auf das Songwr
 iting\, Aufnahmen und ihr persönliches Wachstum – sowohl als Künstlerin al
 s auch als Mensch.\nBesetzung:\n\nEmeline Trabut (Akustikgitarre\, Gesang)
 \n\nhttps://linktr.ee/blue_ish\nMit der finanziellen Unterstützung von Liq
 uid Bar\, dem luxemburgischen Ministerium für Kultur\, der Stadt Luxemburg
  und SACEM.\n&nbsp\;
DTSTART:20260125T170000Z
DTEND:20260125T190000Z
GEO:00;0
LOCATION:Liquid Bar\, Luxemburg
ORGANIZER:
SEQUENCE:1
SUMMARY:Blue-ish
TRANSP:OPAQUE
URL:http://jazztaxi.de/alle-termine/759-blue-ish/2026-01-25-17-00
END:VEVENT
END:VCALENDAR
