BEGIN:VCALENDAR
VERSION:2.0
PRODID:-//Jazz-Initiative Eifel e. V.//NONSGML kigkonsult.se iCalcreator 2.41.92//
CALSCALE:GREGORIAN
METHOD:PUBLISH
UID:63393462-3861-4136-b833-316533656432
X-WR-CALNAME:iCagenda
X-WR-CALDESC:Event Management Extension for Joomla!
X-WR-RELCALID:3E26604A-50F4-4449-8B3E-E4F4932D05B5
X-WR-TIMEZONE:UTC
BEGIN:VTIMEZONE
TZID:UTC
END:VTIMEZONE
BEGIN:VEVENT
UID:30393039-3733-4938-b338-316437303661
DTSTAMP:20260420T142438Z
CATEGORIES:Allgemein
CLASS:PUBLIC
DESCRIPTION;ALTREP="CID:<FFFF__=0ABBE548DFE235B58f9e8a93d@coffeebean.com>":
 Alec &amp\; Ro Gebhardt „TimeTravellers“ präsentieren eine aufregende Fusi
 on von Musikstilen\, die sich über vier Jahrzehnte erstreckt. Ro Gebhardt\
 , ein herausragender Gitarrist\, Komponist und Arrangeur\, hat sich in der
  deutschen Musikszene einen Namen gemacht und vertritt das deutsche Know-h
 ow bei internationalen Auftritten\, unter anderem im renommierten Jazzclub
  Blue Note in New York City. An seiner Seite spielt sein 17-jähriger Sohn 
 Alec Gebhardt\, ein talentierter Bassist und Kulturpreisträger\, der als J
 ungstudent an der HFM Saarland studiert. Als Special Guest vervollständigt
  der französische Drummer Jean-Marc Robin das Trio. Er zählt zu den besten
  Schlagzeugern Frankreichs und ist für seine Zusammenarbeit mit namhaften 
 Künstlern wie dem Gypsy-Jazz-Gitarristen Birelli Lagrene bekannt. Die Band
  begeistert mit einem dynamischen Mix aus Jazz\, Pop\, Blues\, Latin und k
 lassischen Einflüssen\, angereichert durch beeindruckende Improvisationen 
 und viel Spielfreude. Neben der Interpretation bekannter Stücke aus versch
 iedenen Epochen präsentieren sie auch eigene Kompositionen\, die bereits f
 ür Rundfunkanstalten wie SR\, BR und Deutschlandfunk produziert wurden. Kü
 rzlich wurde das Ensemble mit zwei ersten Preisen der Deutschen Pop-Stiftu
 ng ausgezeichnet: für den besten Jazz-Rock-Song mit „Joyous Jaguar“ und de
 n besten R’N’B-Song mit „Could It Be (Ode an die Erde)“. Beide Titel stamm
 en von ihrer aktuellen CD „Blue Music For A Blue Planet“. Die „TimeTravell
 ers“ bieten ein unvergessliches Musikerlebnis\, das sowohl klassische als 
 auch moderne Elemente harmonisch vereint.\nBesetzung:\n\nRo Gebhardt (Halb
 resonanzgitarre)\nAlec Gebhardt (E-Bass)\nJean-Marc Robin (Schlagzeug)\n\n
 https://rogebhardt.com\n\nIn Kooperation mit Bluebird Music ASBL https://b
 lue-bird.lu/\nMit der finanziellen Unterstützung von Liquid Bar\, dem luxe
 mburgischen Ministerium für Kultur\, der Stadt Luxemburg und SACEM.
DTSTART:20260331T203000Z
DTEND:20260331T230000Z
GEO:00;0
LOCATION:Liquid Bar\, Luxemburg
ORGANIZER:
SEQUENCE:1
SUMMARY:Ro Gebhardt & Friends
TRANSP:OPAQUE
URL:http://jazztaxi.de/alle-termine/755-ro-gebhardt-friends/2026-03-31-20-3
 0
END:VEVENT
END:VCALENDAR
