BEGIN:VCALENDAR
VERSION:2.0
PRODID:-//Jazz-Initiative Eifel e. V.//NONSGML kigkonsult.se iCalcreator 2.41.92//
CALSCALE:GREGORIAN
METHOD:PUBLISH
UID:33353831-3331-4239-b533-643434386662
X-WR-CALNAME:iCagenda
X-WR-CALDESC:Event Management Extension for Joomla!
X-WR-RELCALID:3E26604A-50F4-4449-8B3E-E4F4932D05B5
X-WR-TIMEZONE:UTC
BEGIN:VTIMEZONE
TZID:UTC
END:VTIMEZONE
BEGIN:VEVENT
UID:62323935-3537-4131-b634-316632333131
DTSTAMP:20260420T142010Z
CATEGORIES:Allgemein
CLASS:PUBLIC
DESCRIPTION;ALTREP="CID:<FFFF__=0ABBE548DFE235B58f9e8a93d@coffeebean.com>":
 Thompson Springs ist eine fünfköpfige Blues- und Rockband aus Chicago\, di
 e für ihren charakteristischen\, nebelverhangenen Songwriting-Stil bekannt
  ist\, den PBS als „Western Rock“ bezeichnet hat. Ihr musikalischer Klang 
 zeichnet sich durch eine nostalgische\, dennoch abenteuerliche Atmosphäre 
 aus\, die klassische Blues- und Rock-Einflüsse mit einem Hauch von Mysteri
 um und Unbekanntem verbindet. Getrieben von einer Liebe zum Geschichtenerz
 ählen und zur Erkundung hat die Band eine ungewöhnliche Reise unternommen\
 , um in ganz Europa\, Neuseeland und den Vereinigten Staaten aufzutreten. 
 Das Detroit Public Radio (WDET) hat angemerkt\, dass ihre Einflüsse von le
 gendären Songwritern wie Tom Petty bis hin zu zeitgenössischen Indie-Künst
 lern wie Kurt Vile reichen. Im Jahr 2020 arbeiteten Thompson Springs mit P
 at Sansone von Wilco zusammen\, um ihr Debütalbum Undertones zu produziere
 n\, das bei Dropped Beauty Recordings erschien.\nhttps://https://www.thomp
 sonsprings.com\n\nIn Kooperation mit Bluebird Music ASBL https://blue-bird
 .lu/\nMit der finanziellen Unterstützung von Liquid Bar\, dem luxemburgisc
 hen Ministerium für Kultur\, der Stadt Luxemburg und SACEM.
DTSTART:20260402T203000Z
DTEND:20260402T230000Z
GEO:00;0
LOCATION:Liquid Bar\, Luxemburg
ORGANIZER:
SEQUENCE:1
SUMMARY:Thompson Springs
TRANSP:OPAQUE
URL:http://jazztaxi.de/alle-termine/748-thompson-springs/2026-04-02-20-30
END:VEVENT
END:VCALENDAR
