BEGIN:VCALENDAR
VERSION:2.0
PRODID:-//Jazz-Initiative Eifel e. V.//NONSGML kigkonsult.se iCalcreator 2.41.92//
CALSCALE:GREGORIAN
METHOD:PUBLISH
UID:64333536-3233-4037-b264-313162373264
X-WR-CALNAME:iCagenda
X-WR-CALDESC:Event Management Extension for Joomla!
X-WR-RELCALID:3E26604A-50F4-4449-8B3E-E4F4932D05B5
X-WR-TIMEZONE:UTC
BEGIN:VTIMEZONE
TZID:UTC
END:VTIMEZONE
BEGIN:VEVENT
UID:38663935-6664-4333-a438-393130326436
DTSTAMP:20260420T153702Z
CATEGORIES:Allgemein
CLASS:PUBLIC
DESCRIPTION;ALTREP="CID:<FFFF__=0ABBE548DFE235B58f9e8a93d@coffeebean.com>":
 Pascal Karenbo &amp\; Les Garagistes ist eine französisch-luxemburgische C
 ountry-Blues-\, Folk- und Rockband aus Longwy (F)\, die 2018 gegründet wur
 de. Sie spielen Eigenkompositionen von Pascal Karenbo und Pierre Collet. P
 ascal Karenbo kann auf über 40 Jahre Erfahrung als Singer-Songwriter zurüc
 kblicken\, mit einem nationalen Hit im Jahr 1988 und unzähligen Auftritten
  in Frankreich\, Belgien und Luxemburg.\nBesetzung:\n\nPascal Karrenbauer 
 (Akustikgitarre\, Gesang)\nPierre Collet (E-Gitarre)\nJeff Defloraine (Bas
 sgitarre\, Begleitgesang)\nRob Schauls (Schlagzeug)\n\nhttps://www.karenbo
 music.com\n\nIn Kooperation mit Bluebird Music ASBL https://blue-bird.lu/
 \nMit der finanziellen Unterstützung von Liquid Bar\, dem luxemburgischen 
 Ministerium für Kultur\, der Stadt Luxemburg und SACEM.
DTSTART:20260305T203000Z
DTEND:20260305T230000Z
GEO:00;0
LOCATION:Liquid Bar\, Luxemburg
ORGANIZER:
SEQUENCE:1
SUMMARY:Pascal Karenbo & Les Garagistes
TRANSP:OPAQUE
URL:http://jazztaxi.de/alle-termine/743-pascal-karenbo-les-garagistes-5/202
 6-03-05-20-30
END:VEVENT
END:VCALENDAR
