BEGIN:VCALENDAR
VERSION:2.0
PRODID:-//Jazz-Initiative Eifel e. V.//NONSGML kigkonsult.se iCalcreator 2.41.92//
CALSCALE:GREGORIAN
METHOD:PUBLISH
UID:31643566-3435-4233-b562-633165326537
X-WR-CALNAME:iCagenda
X-WR-CALDESC:Event Management Extension for Joomla!
X-WR-RELCALID:3E26604A-50F4-4449-8B3E-E4F4932D05B5
X-WR-TIMEZONE:UTC
BEGIN:VTIMEZONE
TZID:UTC
END:VTIMEZONE
BEGIN:VEVENT
UID:36323464-3462-4134-b030-346538333261
DTSTAMP:20260420T154947Z
CATEGORIES:Jazzclub im Orpheum (Scheune des Konviktes)
CLASS:PUBLIC
DESCRIPTION;ALTREP="CID:<FFFF__=0ABBE548DFE235B58f9e8a93d@coffeebean.com>":
 &nbsp\;Trioon ist ein jazzmäßiges Kollektiv ohne benannten Leiter\, besteh
 end aus den Musikern Maxime Bender(Tenorsaxophon)\, Stefano Agostini (Kont
 rabass) und Jeff Herr (Schlagzeug). Obwohl ihre Zusammenarbeitals Trio bis
  ins Jahr 2018 zurückreicht\, verkörpert die Gruppe weiterhin die Vorstell
 ung\, dassJazzkomponisten und -interpreten in einer einzigartigen Position
  sind\, um ideale Plattformen für ihreimprovisatorischen Fähigkeiten zu sc
 haffen. Ihre Auftritte nehmen das Publikum mit auf eine dynamischeReise du
 rch lebendige und energiegeladene Musik.\nVeranstaltung im Rahmen der Part
 nerschaft zwischen den Vereinen Bluebird Music ASBL und Jazzinitiative Eif
 el e. V. bezüglich der Mobilität von Musikensembles zwischen Luxemburg und
  Rheinland-Pfalz.\n&nbsp\;
DTSTART:20260107T200000Z
DTEND:20260107T220000Z
GEO:+50.205353;+6.420447
LOCATION:Orpheum Prüm
ORGANIZER;CN=:mailto:info@jazzei.de
SEQUENCE:1
SUMMARY:Trioon - Jazz aus Luxemburg im Orpheum Prüm
TRANSP:OPAQUE
URL:http://jazztaxi.de/alle-termine/740-luxemburger-schlager-im-stil-der-co
 median-harmonists-im-orpheum-pruem-2
END:VEVENT
END:VCALENDAR
