BEGIN:VCALENDAR
VERSION:2.0
PRODID:-//Jazz-Initiative Eifel e. V.//NONSGML kigkonsult.se iCalcreator 2.41.92//
CALSCALE:GREGORIAN
METHOD:PUBLISH
UID:64663136-6239-4733-b935-346237303265
X-WR-CALNAME:iCagenda
X-WR-CALDESC:Event Management Extension for Joomla!
X-WR-RELCALID:3E26604A-50F4-4449-8B3E-E4F4932D05B5
X-WR-TIMEZONE:UTC
BEGIN:VTIMEZONE
TZID:UTC
END:VTIMEZONE
BEGIN:VEVENT
UID:64636261-3735-4364-a332-343238376539
DTSTAMP:20260420T154629Z
CATEGORIES:Allgemein
CLASS:PUBLIC
DESCRIPTION;ALTREP="CID:<FFFF__=0ABBE548DFE235B58f9e8a93d@coffeebean.com>":
 DENNIS BERGHAUS &amp\; BIGBANDREMEMBERING ROGER CICEROWittlich\,&nbsp\;Cas
 inoFriedrichstraße 4\, 54516 Wittlich (Deutschland) -&nbsp\;KarteDennis Be
 rghaus vocAndreas Steffens asMarius Herges tsThomas Desch tsVolker Dederic
 hs barMichael Schuh tpMarco Schmitz tpMarkus Pohlen cond\, trbThomas Berg 
 trbIwo Iwanov gitXaver Fischer pRalf Laux bMark Schelzke dr\nAuch in unser
 er Heimatstadt und -region gibt es tolle\, leidenschaftliche Musikerinnen 
 und Musiker. Wir freuen uns\, ihnen regelmäßig auf der Wittlicher Bühne de
 s Jazzclubs eine Plattform zu bieten. Und in diesem Jahr wird die Bühne ri
 chtig voll sein.\nEin Ensemble aus 13 Musikern verneigt sich vor dem leide
 r viel zu früh verstorbenen Roger Cicero. Sein Todestag jährt sich im komm
 enden Jahr zum zehnten Mal ­– er gilt als einer der besten deutschen Jazz-
 /Swingmusiker und Sänger.\nMarkus Pohlen hat aus Musikern der weiteren Reg
 ion eine Bigband zusammengestellt und hierfür die Musik arrangiert. In Den
 nis Berghaus fand er einen Sänger\, der das Repertoire würdevoll interpret
 iert. Freut Euch auf einen stimmungsvollen Abend im Big Band Sound.\nEinla
 ss: 19.00 Uhr\nVeranstalter:&nbsp\;Jazz-Club Wittlich e.V.Bild: (c) Christ
 ian Morbach
DTSTART:20251227T200000Z
DTEND:20251227T230000Z
GEO:00;0
LOCATION:Casino Wittlich
ORGANIZER:
SEQUENCE:1
SUMMARY:Dennis Berghus & Bigband - Remembering Roger Cicero
TRANSP:OPAQUE
URL:http://jazztaxi.de/alle-termine/738-dennis-berghus-bigband-remembering-
 roger-cicero
END:VEVENT
END:VCALENDAR
