BEGIN:VCALENDAR
VERSION:2.0
PRODID:-//Jazz-Initiative Eifel e. V.//NONSGML kigkonsult.se iCalcreator 2.41.92//
CALSCALE:GREGORIAN
METHOD:PUBLISH
UID:61333462-3463-4433-a531-303533303964
X-WR-CALNAME:iCagenda
X-WR-CALDESC:Event Management Extension for Joomla!
X-WR-RELCALID:3E26604A-50F4-4449-8B3E-E4F4932D05B5
X-WR-TIMEZONE:UTC
BEGIN:VTIMEZONE
TZID:UTC
END:VTIMEZONE
BEGIN:VEVENT
UID:37356162-6563-4335-b065-303033313032
DTSTAMP:20260420T155508Z
CATEGORIES:Allgemein
CLASS:PUBLIC
DESCRIPTION;ALTREP="CID:<FFFF__=0ABBE548DFE235B58f9e8a93d@coffeebean.com>":
 Roger Cicero war einer der bedeutendsten deutschen Jazz- und Swing-Interpr
 eten seiner Generation. Mit Hits wie 'Zieh die Schuh aus'\, 'Frauen regier
 'n die Welt'\, 'In diesem Moment'\, 'Murphys Gesetz' u.v.m. schaffte er es
 \, Jazz und Swing erfolgreich in die deutschen Charts zu bringen. Sein plö
 tzlicher Tod im Jahr 2016 hinterließ eine große Lücke in der deutschen Mus
 iklandschaft.\nDennis Berghaus &amp\; Bigband erinnern in diesem Tribute-K
 onzert an die größten Hits des charismatischen Sängers. Mit Dennis Berghau
 s und unter der Leitung von Markus Pohlen wird dieser Abend mit viel Liebe
  zum Detail und musikalischer Virtuosität zu einer würdigen Hommage an Rog
 er Ciceros musikalisches Erbe.\nBesetzung: Dennis Berghaus voc\, Andreas S
 teffens as\, Marius Herges ts\, Thomas Desch ts\, Volker Dederichs bar\,&n
 bsp\;Michael Schuh tp\, Marco Schmitz tp\, Markus Pohlen cond\, trb\, Thom
 as Berg trb\,&nbsp\;Iwo Iwanov git\, Xaver Fischer p\, Ralf Laux b\, Mark 
 Schelzke dr\n&nbsp\;\nKasino am Kornmarkt\, Trier\, Einlass 19:00
DTSTART:20251228T200000Z
DTEND:20251228T230000Z
GEO:00;0
LOCATION:Kasino am Kornmarkt\, Trier
ORGANIZER:
SEQUENCE:1
SUMMARY:Dennis Berghaus & Bigband - Tribute to Roger Cicero
TRANSP:OPAQUE
URL:http://jazztaxi.de/alle-termine/736-dennis-berghaus-bigband-tribute-to-
 roger-cicero-2
END:VEVENT
END:VCALENDAR
