BEGIN:VCALENDAR
VERSION:2.0
PRODID:-//Jazz-Initiative Eifel e. V.//NONSGML kigkonsult.se iCalcreator 2.41.92//
CALSCALE:GREGORIAN
METHOD:PUBLISH
UID:33393433-6364-4161-b439-626264356661
X-WR-CALNAME:iCagenda
X-WR-CALDESC:Event Management Extension for Joomla!
X-WR-RELCALID:3E26604A-50F4-4449-8B3E-E4F4932D05B5
X-WR-TIMEZONE:UTC
BEGIN:VTIMEZONE
TZID:UTC
END:VTIMEZONE
BEGIN:VEVENT
UID:32623864-3665-4139-b038-373836353839
DTSTAMP:20260420T154947Z
CATEGORIES:Jazzclub im Orpheum (Scheune des Konviktes)
CLASS:PUBLIC
DESCRIPTION;ALTREP="CID:<FFFF__=0ABBE548DFE235B58f9e8a93d@coffeebean.com>":
 i-LASHES ist ein neues Quartett\, das aus Amsterdam und Luxemburg stammt u
 nd die Spitze derimprovisierten Musik erkundet\, tief verwurzelt im Jazz. 
 Durch die Verschmelzung elektronischerKlanglandschaften\, atmosphärischer 
 Texturen\, komplexer rhythmischer Strukturen und reicher Jazz-Harmonien sc
 haffen sie eine Klangwelt\, die eindeutig ihre eigene ist.Ihr Debüt-EP\, d
 as für Anfang 2026 geplant ist\, befasst sich mit der Verbindung zwischen 
 modernenHörgewohnheiten und unkonventionellen musikalischen Ansätzen — und
  lädt das Publikum ein\, sich aufneue und unerwartete Weise mit der Musik 
 zu beschäftigen.\nDer Eintritt zum Jazzclub ist wie immer frei um eine Spe
 nde wird gebeten.\nVeranstaltung im Rahmen der Partnerschaft zwischen den 
 Vereinen Bluebird Music ASBL und Jazzinitiative Eifel e. V. bezüglich der 
 Mobilität von Musikensembles zwischen Luxemburg und Rheinland-Pfalz.\n&nbs
 p\;\n&nbsp\;
DTSTART:20260204T200000Z
DTEND:20260204T220000Z
GEO:+50.205353;+6.420434
LOCATION:Orpheum Prüm
ORGANIZER;CN=:mailto:info@jazzei.de
SEQUENCE:1
SUMMARY:i-LASHES im Orpheum Prüm
TRANSP:OPAQUE
URL:http://jazztaxi.de/alle-termine/734-i-lashes-im-orpheum-pruem/2026-02-0
 4-20-00
END:VEVENT
END:VCALENDAR
