BEGIN:VCALENDAR
VERSION:2.0
PRODID:-//Jazz-Initiative Eifel e. V.//NONSGML kigkonsult.se iCalcreator 2.41.92//
CALSCALE:GREGORIAN
METHOD:PUBLISH
UID:37316339-6162-4938-b538-353361316139
X-WR-CALNAME:iCagenda
X-WR-CALDESC:Event Management Extension for Joomla!
X-WR-RELCALID:3E26604A-50F4-4449-8B3E-E4F4932D05B5
X-WR-TIMEZONE:UTC
BEGIN:VTIMEZONE
TZID:UTC
END:VTIMEZONE
BEGIN:VEVENT
UID:62303165-3230-4437-b830-366636633930
DTSTAMP:20260420T153657Z
CATEGORIES:Jazzclub im Orpheum (Scheune des Konviktes)
CLASS:PUBLIC
DESCRIPTION;ALTREP="CID:<FFFF__=0ABBE548DFE235B58f9e8a93d@coffeebean.com>":
 Maya Likembe ist das Ensemble\, das von der luxemburgischen Sängerin und K
 omponistin Mary-AnnMeiers geleitet wird. Verwurzelt in den Traditionen des
  Jazz\, sind ihre Musik und Vocals auch vonlateinamerikanischen\, afrikani
 schen und Soulklängen geprägt. Das Projekt hat durch die Zusammenarbeitmit
  Musikern aus verschiedenen kulturellen Hintergründen floriert. Ihr Debüt 
 gaben sie mit der Single'Ardent Traveler'\, die in Luxemburg und den USA a
 ufgenommen wurde. Zudem haben sie drei Live-Tracksund ein Interview aus ei
 ner Rocklabs-Session in der Rockhal in Belval veröffentlicht. Das Neueste 
 ist dieVeröffentlichung ihres EPs 'Spirituality is the Beginning'\, das in
  den Tritone Studios aufgenommen wurdeund von einem Release-Konzert im Rah
 men der Pause Jazz-Konzertreihe in der Abtei Neimënster begleitetwurde.\nD
 er Eintritt im Jazzclub ist wie immer frei\, um eine Spende wird gebeten.
 \nVeranstaltung im Rahmen der Partnerschaft zwischen den Vereinen Bluebird
  Music ASBL und Jazzinitiative Eifel e. V. bezüglich der Mobilität von Mus
 ikensembles zwischen Luxemburg und Rheinland-Pfalz.\n&nbsp\;
DTSTART:20260304T200000Z
DTEND:20260304T220000Z
GEO:+50.205353;+6.420434
LOCATION:Orpheum Prüm
ORGANIZER;CN=:mailto:info@jazzei.de
SEQUENCE:1
SUMMARY:Maya Likembe / Extraklasse im Orpheum Prüm
TRANSP:OPAQUE
URL:http://jazztaxi.de/alle-termine/733-maya-likembe-extraklasse-im-orpheum
 -pruem
END:VEVENT
END:VCALENDAR
