BEGIN:VCALENDAR
VERSION:2.0
PRODID:-//Jazz-Initiative Eifel e. V.//NONSGML kigkonsult.se iCalcreator 2.41.92//
CALSCALE:GREGORIAN
METHOD:PUBLISH
UID:30616338-3830-4039-b231-643936306462
X-WR-CALNAME:iCagenda
X-WR-CALDESC:Event Management Extension for Joomla!
X-WR-RELCALID:3E26604A-50F4-4449-8B3E-E4F4932D05B5
X-WR-TIMEZONE:UTC
BEGIN:VTIMEZONE
TZID:UTC
END:VTIMEZONE
BEGIN:VEVENT
UID:33313133-3865-4961-b132-613339653335
DTSTAMP:20260420T165416Z
CATEGORIES:Allgemein
CLASS:PUBLIC
DESCRIPTION;ALTREP="CID:<FFFF__=0ABBE548DFE235B58f9e8a93d@coffeebean.com>":
 Bei Kaffee und Kuchen&nbsp\; -&nbsp\; Erstes Kaffeetafel-Konzert auf Schlo
 ss Weilerbach \nEin Ausdruck zart-schmelzender bis hin zu virtuos-berausch
 enden Klängen: Das Trierer Kaffeehaus-Orchester unter der musikalischen Le
 itung von Gert Spies hat sich der Salonmusik im Stile des beginnenden 20. 
 Jahrhunderts verschrieben. Damit entführt das Ensemble sein Publikum musik
 alisch sowohl in die volkstümliche\, feier- und tanzfreudige ungarische Pu
 szta als auch in die holzvertäfelten und mit rotem Samt geschmückten edlen
  Wiener Kaffeehäuser.\nSeit seiner Gründung 2017 haben sich neun Musikerin
 nen und Musiker aus dem Raum Trier gefunden\, deren Leidenschaft es ist\, 
 die klassisch-vornehme wie die bürgerlich-unterhaltende Salonmusik mit Prä
 zision und Spielfreude zu präsentieren.\nGenauso vielfältig wie das Genre 
 ist das Repertoire des Ensembles. Melancholisch bis sehnsuchtsvoll kommt d
 abei Dmitri Schostakowitschs „Second Waltz“ daher\, während Josef Rixners 
 Suite „Frohes Wochenend‘“ die Musik für verschiedene Tanzstile bereithält.
 \nMit Kompositionen von Franz Lehár und Emmerich Kálmán betritt das Triere
 r Kaffeehaus-Orchester die Bühnen der sogenannten „Silbernen Operettenära“
  (1900-1920)\, mit Werken von Adalgiso Ferraris und Harry Theis präsentier
 t es die typischen Csárdás-Klänge der ungarischen Dorffeste.\nKern eines t
 ypischen Salonorchesters bildet das Klavier und ein Streicherensemble. Je 
 nach Einflussgebiet kommen eine Flöte (Wiener Besetzung) oder eine Klarine
 tte sowie eine Posaune (Berliner Besetzung) oder ein Kornett (Pariser Bese
 tzung) hinzu. Das Trierer Kaffeehaus-Orchester lässt sich in keine dieser 
 Schubladen einordnen\, denn Flöte\, Tuba\, Trompete\, Klarinette\, Saxopho
 n und Schlagwerk sind feste Bestandteile dieser „Trierer Besetzung“.\nDas 
 Kaffeetafel-Konzert findet statt am Sonntag\, 26. Mai\, Beginn 15.30 h. Ei
 nlass ist ab&nbsp\; 15 Uhr. Die Gäste\, deren Zahl auf 60 begrenzt ist\, h
 aben im Festsaal beim Verzehr von Kaffee und Kuchen die Möglichkeit\, der 
 stilechten Salonmusik zu lauschen – ein Erlebnis wie im Wiener Kaffeehaus.
 \nKarten kosten 28 Euro. Sie beinhalten Kuchen und ausgewählte Getränke so
  viel die Gäste mögen. Vorbestellung der Eintrittskarten unter 06561-15427
 0 oder schloss-weilerbach@bitburg-pruem.de.\nVerantwortlich für diese Vera
 nstaltung im Schloss zeichnen gemeinschaftlich die Jazz-Initiative Eifel e
 . V. und die Schloss-Weilerbach-Gesellschaft e.V.\n&nbsp\;
DTSTART:20190526T153000Z
DTEND:20190526T173000Z
GEO:00;0
LOCATION:Schloss Weilerbach
ORGANIZER:
SEQUENCE:1
SUMMARY:Bei Kaffee und Kuchen: Erstes Kaffeetafel-Konzert auf Schloss Weile
 rbach
TRANSP:OPAQUE
URL:http://jazztaxi.de/alle-termine/73-bei-kaffee-und-kuchen-ein-kaffeetafe
 l-konzert-auf-schloss-weilerbach
END:VEVENT
END:VCALENDAR
