BEGIN:VCALENDAR
VERSION:2.0
PRODID:-//Jazz-Initiative Eifel e. V.//NONSGML kigkonsult.se iCalcreator 2.41.92//
CALSCALE:GREGORIAN
METHOD:PUBLISH
UID:31396562-3365-4637-a166-643834333831
X-WR-CALNAME:iCagenda
X-WR-CALDESC:Event Management Extension for Joomla!
X-WR-RELCALID:3E26604A-50F4-4449-8B3E-E4F4932D05B5
X-WR-TIMEZONE:UTC
BEGIN:VTIMEZONE
TZID:UTC
END:VTIMEZONE
BEGIN:VEVENT
UID:31366539-3537-4334-a539-663764363131
DTSTAMP:20260420T153851Z
CATEGORIES:Allgemein
CLASS:PUBLIC
DESCRIPTION;ALTREP="CID:<FFFF__=0ABBE548DFE235B58f9e8a93d@coffeebean.com>":
 i-LASHES ist ein neues Quartett\, das aus Amsterdam und Luxemburg stammt u
 nd die Spitze der improvisierten Musik erkundet\, tief verwurzelt im Jazz.
  Durch die Verschmelzung elektronischer Klanglandschaften\, atmosphärische
 r Texturen\, komplexer rhythmischer Strukturen und reicher Jazz-Harmonien 
 schaffen sie eine Klangwelt\, die eindeutig ihre eigene ist. Ihr Debüt-EP\
 , das für Anfang 2026 geplant ist\, befasst sich mit der Verbindung zwisch
 en modernen Hörgewohnheiten und unkonventionellen musikalischen Ansätzen —
  und lädt das Publikum ein\, sich auf neue und unerwartete Weise mit der M
 usik zu beschäftigen.\nBesetzung:\n\nArthur Clees (Vibraphon)\nMael El Maz
 oughi (Tasten)\nJustin Maas (Kontrabass)\nLuca Garofalo (Schlagzeug)\n\nVe
 ranstaltung im Rahmen der Partnerschaft zwischen den Vereinen Bluebird Mus
 ic ASBL und Jazzinitiative Eifel e. V. bezüglich der Mobilität von Musiken
 sembles zwischen Luxemburg und Rheinland-Pfalz.)\nMit der finanziellen Unt
 erstützung von Liquid Bar\, dem luxemburgischen Ministerium für Kultur\, d
 er Stadt Luxemburg und SACEM.
DTSTART:20260203T203000Z
DTEND:20260203T230000Z
GEO:00;0
LOCATION:Liquid Bar\, Luxemburg
ORGANIZER:
SEQUENCE:1
SUMMARY:i-Lashes
TRANSP:OPAQUE
URL:http://jazztaxi.de/alle-termine/719-i-lashes
END:VEVENT
END:VCALENDAR
