BEGIN:VCALENDAR
VERSION:2.0
PRODID:-//Jazz-Initiative Eifel e. V.//NONSGML kigkonsult.se iCalcreator 2.41.92//
CALSCALE:GREGORIAN
METHOD:PUBLISH
UID:30336566-6232-4637-a338-343564313733
X-WR-CALNAME:iCagenda
X-WR-CALDESC:Event Management Extension for Joomla!
X-WR-RELCALID:3E26604A-50F4-4449-8B3E-E4F4932D05B5
X-WR-TIMEZONE:UTC
BEGIN:VTIMEZONE
TZID:UTC
END:VTIMEZONE
BEGIN:VEVENT
UID:34633539-3266-4332-b934-323239333137
DTSTAMP:20260420T155533Z
CATEGORIES:Allgemein
CLASS:PUBLIC
DESCRIPTION;ALTREP="CID:<FFFF__=0ABBE548DFE235B58f9e8a93d@coffeebean.com>":
 TRES Latin Jazz wurde 2008 im Süden von Buenos Aires gegründet und entwick
 elte ihren eigenen\, unverwechselbaren Sound. Nach Tourneen durch Europa u
 nd Argentinien haben sie den argentinischen und lateinamerikanischen Jazz 
 neu definiert und aufgewertet. Ihre Rhythmen verbinden die reichen Harmoni
 en und die Improvisation des Jazz und begeistern das Publikum\, wobei sie 
 eine einzigartige\, unvergessliche Atmosphäre schaffen.Sie sind eine unabh
 ängige kreative Kraft\, mit sechs Europatourneen und mehreren Alben — daru
 nter zwei auf Vinyl — und haben auf einigen der bedeutendsten Bühnen im Ja
 zzzirkus gespielt. Zu ihren Gästen zählen Künstler wie Silvayn Luc und Ibr
 ahim Ferrer Jr.\, deren afro-lateinische Wurzeln ihren Sound bereichern. S
 ie zeigen auch die Vielseitigkeit ihres Stils durch Kooperationen mit Grup
 pen wie No Square Quartet (Schweiz) und Cedric Hanriot (Frankreich).Derzei
 t arbeiten sie an ihrem siebten Album\, und dieses Trio ist unermüdlich au
 f der Suche nach neuen\, emotiongeladenen Songs\, um jeden Zuhörer tief zu
  berühren.\n\nIn Kooperation mit Bluebird Music ASBL https://blue-bird.lu/
 \nMit der finanziellen Unterstützung von Liquid Bar\, dem luxemburgischen 
 Ministerium für Kultur\, der Stadt Luxemburg und SACEM.
DTSTART:20260120T203000Z
DTEND:20260120T230000Z
GEO:00;0
LOCATION:Liquid Bar\, Luxemburg
ORGANIZER:
SEQUENCE:1
SUMMARY:TRES Latin Jazz
TRANSP:OPAQUE
URL:http://jazztaxi.de/alle-termine/714-tres-latin-jazz/2026-01-20-20-30
END:VEVENT
END:VCALENDAR
