BEGIN:VCALENDAR
VERSION:2.0
PRODID:-//Jazz-Initiative Eifel e. V.//NONSGML kigkonsult.se iCalcreator 2.41.92//
CALSCALE:GREGORIAN
METHOD:PUBLISH
UID:36643833-3836-4435-a338-343837626435
X-WR-CALNAME:iCagenda
X-WR-CALDESC:Event Management Extension for Joomla!
X-WR-RELCALID:3E26604A-50F4-4449-8B3E-E4F4932D05B5
X-WR-TIMEZONE:UTC
BEGIN:VTIMEZONE
TZID:UTC
END:VTIMEZONE
BEGIN:VEVENT
UID:31623036-3239-4564-a666-623362613638
DTSTAMP:20260420T154915Z
CATEGORIES:Allgemein
CLASS:PUBLIC
DESCRIPTION;ALTREP="CID:<FFFF__=0ABBE548DFE235B58f9e8a93d@coffeebean.com>":
 Bluesy Lips ist eine luxemburgische Blues-Band mit Sitz in Mamer\, Luxembu
 rg\, die 2024 gegründet wurde. Das Ziel der Band ist\, eine entspannte Mis
 chung aus Blues und populären Songs in einem gemütlichen Lounge-Atmosphäre
  zu spielen\, mit einem Hauch von Biss. Die Setliste ist eine Verbindung v
 on klassischen Blues aus früheren Zeiten\, modernem Blues und beliebten Hi
 ts von Künstlern wie Amy Winehouse und Radiohead. Die Bühnenausstaltung is
 t relativ einfach\, mit akustischen Gitarren und Vocals\, die direkt in di
 e Mischung eingeflossen sind\, während der Bassspieler einen Verstärker au
 f der Bühne hat.\nBesetzung:\n\nChantal Gottschalk (Gesang)\nSylvain Rock 
 (Akustikgitarre)\nAneesh Balasubramaniyan (Akustikgitarre)\nBenny Deleuran
  (Bassgitarre\, Kontrabass)\n\nhttps://www.facebook.com/bluesy.lips\n\nIn 
 Kooperation mit Bluebird Music ASBL https://blue-bird.lu/\nMit der finanzi
 ellen Unterstützung von Liquid Bar\, dem luxemburgischen Ministerium für K
 ultur\, der Stadt Luxemburg und SACEM.
DTSTART:20260122T203000Z
DTEND:20260122T230000Z
GEO:00;0
LOCATION:Liquid Bar\, Luxemburg
ORGANIZER:
SEQUENCE:1
SUMMARY:Bluesy Lips
TRANSP:OPAQUE
URL:http://jazztaxi.de/alle-termine/712-bluesy-lips-3/2026-01-22-20-30
END:VEVENT
END:VCALENDAR
