BEGIN:VCALENDAR
VERSION:2.0
PRODID:-//Jazz-Initiative Eifel e. V.//NONSGML kigkonsult.se iCalcreator 2.41.92//
CALSCALE:GREGORIAN
METHOD:PUBLISH
UID:37376436-3130-4530-a261-353434666233
X-WR-CALNAME:iCagenda
X-WR-CALDESC:Event Management Extension for Joomla!
X-WR-RELCALID:3E26604A-50F4-4449-8B3E-E4F4932D05B5
X-WR-TIMEZONE:UTC
BEGIN:VTIMEZONE
TZID:UTC
END:VTIMEZONE
BEGIN:VEVENT
UID:63343930-3933-4562-a236-636431663064
DTSTAMP:20260420T154909Z
CATEGORIES:Allgemein
CLASS:PUBLIC
DESCRIPTION;ALTREP="CID:<FFFF__=0ABBE548DFE235B58f9e8a93d@coffeebean.com>":
 DAN' CHA'\, belgischer Gitarrist und Singer-Songwriter\, hat Anfang 2024 s
 eine neue blues- und rockorientierte Band gegründet. Nach mehr als 20 Jahr
 en Erfahrung als Live- und Studiomusiker schreibt und interpretiert er nun
  hauptsächlich seine eigenen Songs\, die von Blues\, Soul und Rock geprägt
  sind. Die Melodien und Texte seiner Lieder sind von Einfachheit geprägt u
 nd sollen eingängig und einprägsam sein. Trotz der gepflegten kompositoris
 chen Einfachheit legt DAN' CHA' großen Wert auf melodische\, rhythmische u
 nd harmonische Vielfalt. Seine ernsten Texte thematisieren sowohl Alltagst
 hemen als auch soziale und gesellschaftliche Missstände. Die Hommage an Ik
 onen des „Blues“ wie Jimi Hendrix\, Eric Clapton und B.B. King darf in sei
 nem Repertoire nicht fehlen. Seine befreundete Band „the b.a.d. SLANG“ tre
 ibt seine Musik auf ein höheres Niveau.\nBesetzung:\n\nDaniel Chavet (E-Gi
 tarre\, Gesang)\nStephan Klinkenberg (Bassgitarre)\nMartin Schommer (Schla
 gzeug)\n\nhttps://www.mudac.net/dan-cha\n\nIn Kooperation mit Bluebird Mus
 ic ASBL https://blue-bird.lu/\nMit der finanziellen Unterstützung von Liqu
 id Bar\, dem luxemburgischen Ministerium für Kultur\, der Stadt Luxemburg 
 und SACEM.
DTSTART:20260115T203000Z
DTEND:20260115T230000Z
GEO:00;0
LOCATION:Liquid Bar\, Luxemburg
ORGANIZER:
SEQUENCE:1
SUMMARY:Dan’ Cha’ & the b.a.d. Slang
TRANSP:OPAQUE
URL:http://jazztaxi.de/alle-termine/711-dan-cha-the-b-a-d-slang-2/2026-01-1
 5-20-30
END:VEVENT
END:VCALENDAR
