BEGIN:VCALENDAR
VERSION:2.0
PRODID:-//Jazz-Initiative Eifel e. V.//NONSGML kigkonsult.se iCalcreator 2.41.92//
CALSCALE:GREGORIAN
METHOD:PUBLISH
UID:32656262-6531-4663-a332-356265626531
X-WR-CALNAME:iCagenda
X-WR-CALDESC:Event Management Extension for Joomla!
X-WR-RELCALID:3E26604A-50F4-4449-8B3E-E4F4932D05B5
X-WR-TIMEZONE:UTC
BEGIN:VTIMEZONE
TZID:UTC
END:VTIMEZONE
BEGIN:VEVENT
UID:38333661-3562-4536-b464-386164366137
DTSTAMP:20260420T155736Z
CATEGORIES:Allgemein
CLASS:PUBLIC
DESCRIPTION;ALTREP="CID:<FFFF__=0ABBE548DFE235B58f9e8a93d@coffeebean.com>":
 Johanna Red ist eine Blues-Rock-Sängerin mit intensiver und gefühlvoller S
 timme und einer magnetischen Bühnenpräsenz. Mit ihren Musikern präsentiert
  sie ein kraftvolles\, inneres Live-Erlebnis\, in dem die Seele des Blues 
 auf die Dringlichkeit des Rocks trifft. Ihre Musik erkundet Widerstandsfäh
 igkeit\, verborgene Wut und rohe Emotionen mit entwaffnender Aufrichtigkei
 t. Ihr Debütalbum 'Stronger Than You Thought'\, erschienen 2024\, hat durc
 h seine kraftvolle Interpretation und Tiefe Eindruck hinterlassen. Im Janu
 ar 2025 wurde Sie im High Hopes-Beitrag des Magazins Blues in Britain inte
 rviewt\, was die wachsende Anerkennung ihres Projekts unterstreicht.\nhttp
 s://www.johannared.com\n\nIn Kooperation mit Bluebird Music ASBL https://b
 lue-bird.lu/\nMit der finanziellen Unterstützung von Liquid Bar\, dem luxe
 mburgischen Ministerium für Kultur\, der Stadt Luxemburg und SACEM.
DTSTART:20260219T203000Z
DTEND:20260219T230000Z
GEO:00;0
LOCATION:Liquid Bar\, Luxemburg
ORGANIZER:
SEQUENCE:1
SUMMARY:Johanna Red
TRANSP:OPAQUE
URL:http://jazztaxi.de/alle-termine/708-johanna-red/2026-02-19-20-30
END:VEVENT
END:VCALENDAR
