BEGIN:VCALENDAR
VERSION:2.0
PRODID:-//Jazz-Initiative Eifel e. V.//NONSGML kigkonsult.se iCalcreator 2.41.92//
CALSCALE:GREGORIAN
METHOD:PUBLISH
UID:66646562-6237-4331-a265-356163343938
X-WR-CALNAME:iCagenda
X-WR-CALDESC:Event Management Extension for Joomla!
X-WR-RELCALID:3E26604A-50F4-4449-8B3E-E4F4932D05B5
X-WR-TIMEZONE:UTC
BEGIN:VTIMEZONE
TZID:UTC
END:VTIMEZONE
BEGIN:VEVENT
UID:33633762-6461-4566-b035-353161333935
DTSTAMP:20260420T142015Z
CATEGORIES:Jazzclub im Orpheum (Scheune des Konviktes)
CLASS:PUBLIC
DESCRIPTION;ALTREP="CID:<FFFF__=0ABBE548DFE235B58f9e8a93d@coffeebean.com>":
 Mit dem 2024 erstmals verliehenen „Newcomer Jazzpreis des Landes Rheinland
 -Pfalz“ ausgezeichnet\, schafft der Bandleader und Saxophonist Paul Scheug
 enpflug mit seinen Kompositionen einen Spagat zwischen eingängigen Melodie
 n und energetischer Jazz- Improvisation. Der Fokus liegt auf einem abwechs
 lungsreichen und groovebasierten Jazzprogramm mit Einflüssen aus Fusion\, 
 Hip-Hop und Pop. Mit der gewonnenen Aufmerksamkeit durch den Gewinn des Ja
 zz undesigend Preises der Dörken-Stiftung 2025\, den Newcomer Jazzpreis\, 
 den Biberacher Jazzpreis 2024 und das 2023 erhaltene Frankfurter Jazzstipe
 ndium mit dem Jazzkollektiv „FÄZZ“\, hat Scheugenpflug 2025 sein Debutalbu
 m aufgenommen und produziert. (Release am 27. Februar 2026) „Paul Scheugen
 pflug ist ein hochtalentierter und wandlungsfähiger Saxophonist. Seine hoh
 e künstlerische Qualität gepaart mit intensiver Vernetzung in die Jazzszen
 e unseres Bundeslandes haben ihn [...] zurecht als Preisträger hervorgehen
  lassen.“ (Jury des Newcomer Jazzpreises RLP/Jazzthing)  Besetzung: Paul S
 cheugenpflug – Saxophone\, Flute\, Comp. Valentin Findling – Piano\, Keybo
 ards Moritz Neukam – Bass Joshua Knauber – Drums
DTSTART:20260401T200000Z
DTEND:20260401T220000Z
GEO:+50.205353;+6.420434
LOCATION:Orpheum im Konvikt\, Haus der Kultur\, Prüm
ORGANIZER;CN=:mailto:info@jazzei.de
SEQUENCE:1
SUMMARY:Paul Scheugenpflug Quartett Preisträgerkonzert im Orpheum Prüm
TRANSP:OPAQUE
URL:http://jazztaxi.de/alle-termine/704-paul-scheugenpflug-quartett-preistr
 aegerkonzert-im-orpheum-pruem
END:VEVENT
END:VCALENDAR
