BEGIN:VCALENDAR
VERSION:2.0
PRODID:-//Jazz-Initiative Eifel e. V.//NONSGML kigkonsult.se iCalcreator 2.41.92//
CALSCALE:GREGORIAN
METHOD:PUBLISH
UID:39346532-3636-4664-b261-653139323562
X-WR-CALNAME:iCagenda
X-WR-CALDESC:Event Management Extension for Joomla!
X-WR-RELCALID:3E26604A-50F4-4449-8B3E-E4F4932D05B5
X-WR-TIMEZONE:UTC
BEGIN:VTIMEZONE
TZID:UTC
END:VTIMEZONE
BEGIN:VEVENT
UID:35383831-3537-4366-a563-363863626537
DTSTAMP:20260420T154247Z
CATEGORIES:Summer-Jazz Festival
CLASS:PUBLIC
DESCRIPTION;ALTREP="CID:<FFFF__=0ABBE548DFE235B58f9e8a93d@coffeebean.com>":
 Der Sound aus den Straßen New Orleans ist die Basis für ihre Musik.\nGegrü
 ndet 2015\, spielen die acht Jungs aus Köln knackige Bläserthemen und ener
 gische Chöre\, gepaart mit rollenden Grooves und fetten Basslines und brin
 gen damit ihre Zuhörer zum Tanzen.\nEgal ob im kleinen Club\, auf der Fest
 ivalbühne\, in der Innenstadt oder im Park. Wenn die Oakum Brass Connectio
 n spielt\, ist eine Party garantiert.\nBesetzung: Posaune: Justus Heher\, 
 Posaune: Leo Pech\, Trompete: Stephan Geiger\, Trompete: Tom Rieder\, Saxo
 phon: Claudius Stallbaum\, Sousaphon: Andi Jansen\, Snare Drum: Basil Weis
  und Bass Drum: Nick Reinartz.\nSummer-Jazz im Bedagarten ist eine Gemeins
 chaftsveranstaltung der Jazz-Initiative Eifel\, der Kulturgemeinschaft Bit
 burg und der Dr.-Hanns-Simon-Stiftung.\nOakum Brass spielt am Mittwoch\, 1
 5. August 2018 ab 19 Uhr.
DTSTART:20180815T190000Z
DTEND:20180815T213000Z
GEO:00;0
LOCATION:Garten Haus Beda\, Bitburg
ORGANIZER:
SEQUENCE:1
SUMMARY:Oakum Brass Connection wollen Zuhörer im Bedagarten mitreißen
TRANSP:OPAQUE
URL:http://jazztaxi.de/alle-termine/7-oakum-brass-connection-wollen-zuhoere
 r-im-bedagarten-mitreissen
END:VEVENT
END:VCALENDAR
