BEGIN:VCALENDAR
VERSION:2.0
PRODID:-//Jazz-Initiative Eifel e. V.//NONSGML kigkonsult.se iCalcreator 2.41.92//
CALSCALE:GREGORIAN
METHOD:PUBLISH
UID:33373963-3736-4334-a365-663565323939
X-WR-CALNAME:iCagenda
X-WR-CALDESC:Event Management Extension for Joomla!
X-WR-RELCALID:3E26604A-50F4-4449-8B3E-E4F4932D05B5
X-WR-TIMEZONE:UTC
BEGIN:VTIMEZONE
TZID:UTC
END:VTIMEZONE
BEGIN:VEVENT
UID:37633662-3037-4861-b863-356439653630
DTSTAMP:20260420T153701Z
CATEGORIES:Jazzclub
CLASS:PUBLIC
DESCRIPTION;ALTREP="CID:<FFFF__=0ABBE548DFE235B58f9e8a93d@coffeebean.com>":
 Datum:\nPatrick Schichtle und sein Trio treten im Bitburger Jazzclub auf\n
 „In meiner Welt ist Helmut Nieberle einer der wichtigsten Musiker“\, sagt 
 Patrick Schichtle\, Gitarrist und Bandleader des Your Daily Jazz Trios. Er
  präzisiert: Der Regensburger Jazzgitarrist und Komponist war die Initialz
 ündung für seinen Werdegang als Jazzmusiker und wurde für ihn zu einer ble
 ibenden musikalischen Inspiration.\nVor drei Jahren gründete Patrick Schic
 htle dann seine eigene Band – Your Daily Jazz Trio – mit Bertram Liebmann 
 am Kontrabass und Theo Wolf am Schlagzeug. Gitarre\, Bass und Schlagzeug b
 ringen swingende Jazzmusik im frischen Sound und einem weiten musikalische
 n Horizont\, der Tango\, Bossa Nova\, Choro sowie Walzer aus aller Welt um
 fasst.\nIn diesem Sinne hatten die Kompositionen von Helmut Nieberle von A
 nfang an einen festen Platz im Band-Repertoire. Nun folgt als nächster Sch
 ritt 2025 ein Album mit ausgewählten Stücken aus seinem Werk in den Arrang
 ements und inspirierten Interpretationen des Trios. Ein brandneues Nieberl
 e-Projekt\, in dem Your Daily Jazz Trio intensives Zusammenspiel und spann
 ende Soli in einem melodiös swingenden und tänzelnd groovigen Rhythmus fus
 ioniert.\nDer Monday-Night Jazz findet statt am Montag\, 02. 03. 2026\, Be
 ginn 20 Uhr im Jazz-Ballroom im Bowling-Center Bitburg\, Charles-Lindbergh
 -Allee 5. Eintritt frei.\n&nbsp\;\n&nbsp\;\n&nbsp\;\n&nbsp\;
DTSTART:20260302T200000Z
DTEND:20260302T200000Z
GEO:00;0
LOCATION:Jazz-Ballroom im Bowling Center Bitburg\, Charles-Linfbergh-Allee 
 5
ORGANIZER:
SEQUENCE:1
SUMMARY:Patrick Schichtle und sein Trio treten im Bitburger Jazzclub auf
TRANSP:OPAQUE
URL:http://jazztaxi.de/alle-termine/695-der-kontrabass-ist-der-star-im-jazz
 club/2026-03-02-20-00
END:VEVENT
END:VCALENDAR
