BEGIN:VCALENDAR
VERSION:2.0
PRODID:-//Jazz-Initiative Eifel e. V.//NONSGML kigkonsult.se iCalcreator 2.41.92//
CALSCALE:GREGORIAN
METHOD:PUBLISH
UID:61613736-3961-4062-b537-343432336430
X-WR-CALNAME:iCagenda
X-WR-CALDESC:Event Management Extension for Joomla!
X-WR-RELCALID:3E26604A-50F4-4449-8B3E-E4F4932D05B5
X-WR-TIMEZONE:UTC
BEGIN:VTIMEZONE
TZID:UTC
END:VTIMEZONE
BEGIN:VEVENT
UID:61303564-3439-4261-a565-623232363964
DTSTAMP:20260420T160407Z
CATEGORIES:Jazzclub
CLASS:PUBLIC
DESCRIPTION;ALTREP="CID:<FFFF__=0ABBE548DFE235B58f9e8a93d@coffeebean.com>":
 Bluesy Lips spielen spannendes Bluesprogramm\nSie sind fast neu in der Sze
 ne der Bluesbands und doch können alle auf reichlich&nbsp\; Musik- Erfahru
 ng zurück blicken. Sie sind sehr erfolgreich und bereichern die luxemburgi
 sche Bluesszene seit 2024. Bluesy Lips sind Chantal Gottschalk\, Gesang\, 
 Silvan Rock und Aneesh Balasubramanlyan\, Gitarren sowie Benny Deleuran am
  Bass.\nBluesy Lips bieten eine entspannende Mischung aus Blues und populä
 ren Songs in einer gemütlichen Lounge-Atmosphäre mit reichlich Biss. Ihr P
 rogramm umfasst klassische Blues\, moderne Blues\, beliebte Hits von Amy W
 inehouse und Radiohead. Eine spannende Setlist.\nDer Monday-Night Jazz fin
 det statt am Montag\, 2. 2. 2026\, Beginn 20 Uhr im Jazz-Ballroom im Bowli
 ng-Center Bitburg\, Charles-Lindbergh-Allee 5. Eintritt frei.\nFoto: Veran
 stalter\n&nbsp\;\nVeranstaltung im Rahmen der Partnerschaft zwischen den V
 ereinen Bluebird Music ASBL und Jazzinitiative Eifel e. V. bezüglich der M
 obilität von Musikensembles zwischen Luxemburg und Rheinland-Pfalz.\n&nbsp
 \;\n&nbsp\;
DTSTART:20260202T200000Z
DTEND:20260202T200000Z
GEO:00;0
LOCATION:Jazz-Ballroom im Bowling Center Bitburg\, Charles-Lindbergh-Allee 
 5
ORGANIZER:
SEQUENCE:1
SUMMARY:Bluesy Lips spielen spannendes Bluesprogramm
TRANSP:OPAQUE
URL:http://jazztaxi.de/alle-termine/694-the-winklepickers-spielen-blues-im-
 jazzclub/2026-02-02-20-00
END:VEVENT
END:VCALENDAR
