BEGIN:VCALENDAR
VERSION:2.0
PRODID:-//Jazz-Initiative Eifel e. V.//NONSGML kigkonsult.se iCalcreator 2.41.92//
CALSCALE:GREGORIAN
METHOD:PUBLISH
UID:66366638-6532-4466-b565-313138623562
X-WR-CALNAME:iCagenda
X-WR-CALDESC:Event Management Extension for Joomla!
X-WR-RELCALID:3E26604A-50F4-4449-8B3E-E4F4932D05B5
X-WR-TIMEZONE:UTC
BEGIN:VTIMEZONE
TZID:UTC
END:VTIMEZONE
BEGIN:VEVENT
UID:63383066-3935-4637-b035-636461343935
DTSTAMP:20260420T160017Z
CATEGORIES:Jazzclub
CLASS:PUBLIC
DESCRIPTION;ALTREP="CID:<FFFF__=0ABBE548DFE235B58f9e8a93d@coffeebean.com>":
 Hals über Kopf - verliebt in Jazz im Bitburger Jazzclub\nDas neue Jazzclub
 -Jahr beginnt mit einem musikalischen Leckerbissen. Freunde des Swing werd
 en hier auf ihre Kosten kommen und Jazzmusik in einer anderen Spielart fin
 den. Auf der Bühne stehen zwei Vollblutmusiker\, die mit viel Herzblut spi
 elen.\n„Hals über Kopf … verliebt in Jazz“ und mit Leidenschaft auf der Bü
 hne: dafür steht das Koblenzer Duo „Scat over Keys … in love with jazz“. M
 it gekonnt angelegten Scateinlagen und anspruchsvollen Instrumentalsoli ve
 rstehen es die Sängerin und Saxophonistin Cordula Kaiser und der Pianist C
 harly Loritz traditionelle und moderne Jazzstandards in ein neues Gewand z
 u hüllen und das Publikum zu begeistern.\nDer Monday-Night Jazz findet sta
 tt am Montag\, 12. 01. 2026\, Beginn 20 Uhr im Jazz-Ballroom im Bowling-Ce
 nter Bitburg\, Charles-Lindbergh-Allee 5. Eintritt frei.\nFoto: Veranstalt
 er
DTSTART:20260112T200000Z
DTEND:20260112T200000Z
GEO:00;0
LOCATION:Jazz-Ballroom im Bowling Center Bitburg\, Charles-Linfbergh-Allee 
 5
ORGANIZER:
SEQUENCE:1
SUMMARY:Hals über Kopf - verliebt in Jazz im Bitburger Jazzclub
TRANSP:OPAQUE
URL:http://jazztaxi.de/alle-termine/693-hals-ueber-kopf-verliebt-in-jazz-im
 -bitburger-jazzclub/2026-01-12-20-00
END:VEVENT
END:VCALENDAR
