BEGIN:VCALENDAR
VERSION:2.0
PRODID:-//Jazz-Initiative Eifel e. V.//NONSGML kigkonsult.se iCalcreator 2.41.92//
CALSCALE:GREGORIAN
METHOD:PUBLISH
UID:34386339-3466-4564-b366-343839363365
X-WR-CALNAME:iCagenda
X-WR-CALDESC:Event Management Extension for Joomla!
X-WR-RELCALID:3E26604A-50F4-4449-8B3E-E4F4932D05B5
X-WR-TIMEZONE:UTC
BEGIN:VTIMEZONE
TZID:UTC
END:VTIMEZONE
BEGIN:VEVENT
UID:62376335-3433-4138-b730-613434386236
DTSTAMP:20260420T170555Z
CATEGORIES:Matinee
CLASS:PUBLIC
DESCRIPTION;ALTREP="CID:<FFFF__=0ABBE548DFE235B58f9e8a93d@coffeebean.com>":
 Denk ich an Deutschland in der Nacht …\nDas Ensemble Kalliope präsentiert 
 Heinrich Heine im Schloss Weilerbach\nDiese Matinée steht ganz im Zeichen 
 von Heinrich Heine. Er ist sein eigenes Sonnensystem – er nennt sich selbs
 t ein Taubenherz\, das sich durch einen Geierschnabel ausspricht. Einsicht
 ig ist er nie\, aber immer vielseitig und durchlässig. Mit der Süße der Wo
 rtmelodie seiner Gedichte und dem Salz seiner gereimten Tränen\, unter den
 en er lacht\, hat er der deutschen Sprache einen Klang entlockt wie vor ih
 m wohl nur Goethe und nach ihm kein Poet mehr.\nDie Widersprüchlichkeit al
 s emanzipierter Jude\, Künstler und engagierter Kämpfer in ein und derselb
 en Person scheint besonders in Deutschland auch heute immer noch schwer ve
 rständlich. Er hat sich an den Rand der Gesellschaft geschrieben und sich 
 gleichzeitig volksliedhaft ins Innerste der Nation hineingesungen. Den poe
 tischen Hochseilakt ohne Netz beherrschte er mit traumwandlerischer Sicher
 heit.  Großstadtneurotiker\, Narziss\, braver Aufklärungssoldat und Tromml
 er der Vernunft – bei Heinrich Heine ist das kein Gegensatz\, und genau de
 shalb brauchen wir ihn heute immer noch – vielleicht sogar mehr denn je!\n
 Zum Ensemble Kalliope:\nDer in Luxemburg beliebte Bassbariton Carlo Entrin
 ger wird ausgewählte Heine-Lieder (z.B. aus der Dichterliebe) vortragen. B
 egleitet wird er von dem Pianisten Claude Weber\, bekannt durch zahlreiche
  Konzerte als Solist\, Liedbegleiter oder in kammermusikalischer Besetzung
 . Die Heine-Gedichte (z.B. aus dem „Buch der Lieder“) und Auszüge aus der 
 „Harzreise“ werden von dem Schauspieler Hilmar Berndt (Theater Trier) rezi
 tiert. Für die Moderation der Texte zeichnet Nadine Hoffmann verantwortlic
 h.\nDiese Matinée findet statt am Sonntag\, 12.Mai 2019 von 11 – 12.30 Uhr
  im Festsaal des Schlosses Weilerbach bei Bollendorf.\nDas Ticket kostet 1
 0 Euro\, wer anschließend in der Remise auch noch essen möchte\, zahlt 25\
 ,00 Euro. Karten gibt es im Vorverkauf unter Fon 06561-154270.Die Matinee 
 im Schloss&nbsp\; ist eine Gemeinschaftsveranstaltung der Jazz-Initiative 
 Eifel und der Schloss-Weilerbach-Gesellschaft.&nbsp\;&nbsp\;&nbsp\;&nbsp\;
 &nbsp\;&nbsp\;&nbsp\;&nbsp\;&nbsp\;
DTSTART:20190512T110000Z
DTEND:20190512T123000Z
GEO:00;0
LOCATION:Schloss Weilerbach
ORGANIZER:
SEQUENCE:1
SUMMARY:Heine im Schloss: Denk ich an Deutschland in der Nacht ...
TRANSP:OPAQUE
URL:http://jazztaxi.de/alle-termine/68-heine-im-schloss-denk-ich-an-deutsch
 land-in-der-nacht
END:VEVENT
END:VCALENDAR
