BEGIN:VCALENDAR
VERSION:2.0
PRODID:-//Jazz-Initiative Eifel e. V.//NONSGML kigkonsult.se iCalcreator 2.41.92//
CALSCALE:GREGORIAN
METHOD:PUBLISH
UID:35383366-3637-4137-b166-356331366662
X-WR-CALNAME:iCagenda
X-WR-CALDESC:Event Management Extension for Joomla!
X-WR-RELCALID:3E26604A-50F4-4449-8B3E-E4F4932D05B5
X-WR-TIMEZONE:UTC
BEGIN:VTIMEZONE
TZID:UTC
END:VTIMEZONE
BEGIN:VEVENT
UID:61623838-3138-4366-b634-363031393336
DTSTAMP:20260420T155507Z
CATEGORIES:Allgemein
CLASS:PUBLIC
DESCRIPTION;ALTREP="CID:<FFFF__=0ABBE548DFE235B58f9e8a93d@coffeebean.com>":
 R&amp\;F ist ein akustisches Blues-Rock-Duo mit Sitz in Luxemburg\, das kr
 aftvolle und authentische Auftritte bietet. Gegründet im Jahr 2021\, beste
 ht die Band aus Fränk Henkes (Gesang\, Gitarre) und Régis Rolando-Eugio (G
 itarre). Ihr Sound verbindet treibende Blues-Rock-Riffs mit eigenen Songs 
 auf Luxemburgisch sowie klassischen Covers\, wodurch ein lebendiges und en
 ergiegeladenes Musikerlebnis entsteht. Mit Fokus auf rohes Gitarrenspiel u
 nd ausdrucksstarke Vocals fängt R&amp\;F die Essenz des traditionellen Blu
 es-Rock ein\, ergänzt durch eine moderne Note.\nBesetzung:\n\nFränk Henkes
  (Akustikgitarre\, Gesang)\nRégis Rolando-Eugio (Akustikgitarre)\n\n\nIm R
 ahmen der Bluebird Sunday Acoustic Sessions @ Liquid Bar.\nMit der finanzi
 ellen Unterstützung von Liquid Bar\, dem luxemburgischen Ministerium für K
 ultur\, der Stadt Luxemburg und SACEM.
DTSTART:20251214T170000Z
DTEND:20251214T190000Z
GEO:00;0
LOCATION:Liquid Bar\, Luxemburg
ORGANIZER:
SEQUENCE:1
SUMMARY:R&F
TRANSP:OPAQUE
URL:http://jazztaxi.de/alle-termine/677-r-f/2025-12-14-17-00
END:VEVENT
END:VCALENDAR
