BEGIN:VCALENDAR
VERSION:2.0
PRODID:-//Jazz-Initiative Eifel e. V.//NONSGML kigkonsult.se iCalcreator 2.41.92//
CALSCALE:GREGORIAN
METHOD:PUBLISH
UID:31613232-3730-4236-a131-363137383535
X-WR-CALNAME:iCagenda
X-WR-CALDESC:Event Management Extension for Joomla!
X-WR-RELCALID:3E26604A-50F4-4449-8B3E-E4F4932D05B5
X-WR-TIMEZONE:UTC
BEGIN:VTIMEZONE
TZID:UTC
END:VTIMEZONE
BEGIN:VEVENT
UID:39393330-3331-4139-b139-656536393662
DTSTAMP:20260420T164927Z
CATEGORIES:Allgemein
CLASS:PUBLIC
DESCRIPTION;ALTREP="CID:<FFFF__=0ABBE548DFE235B58f9e8a93d@coffeebean.com>":
 Zwei Grenzfranzosen aus dem Dreiländereck zwischen Frankreich\, Deutschlan
 d und Luxemburg laden zu einer unterhaltsamen musikalischen Reise ein\, di
 e hauptsächlich Lieder auf Französisch und Luxemburgisch umfasst. Zu ihrem
  zweisprachigen Programm gehört auch traditionelle Volksmusik. LB: Zwee He
 ckefransousen aus dem Dräilännereck schloen eng lëschteg musikalesch Rees 
 vir\, haaptsächlech mat Lidder op Franséisch an op Lëtzebuergesch. An hire
 m zweesproochege Programm steet och traditionnel Volleksmusek.\nBesetzung:
 \n\nJo Nousse (Akustikgitarre\, Gesang\, stompbox)\nOlivier Niedercorn (Ak
 kordeon\, stompbox)\n\nhttps://laschlappsauvage.com/\n\nIm Rahmen der Blue
 bird Sunday Acoustic Sessions @ Liquid Bar.\nMit der finanziellen Unterstü
 tzung von Liquid Bar\, dem luxemburgischen Ministerium für Kultur\, der St
 adt Luxemburg und SACEM.
DTSTART:20250928T170000Z
DTEND:20250928T190000Z
GEO:00;0
LOCATION:Liquid Bar\, Luxemburg
ORGANIZER:
SEQUENCE:1
SUMMARY:La Schlapp sauvage
TRANSP:OPAQUE
URL:http://jazztaxi.de/alle-termine/672-la-schlapp-sauvage
END:VEVENT
END:VCALENDAR
