BEGIN:VCALENDAR
VERSION:2.0
PRODID:-//Jazz-Initiative Eifel e. V.//NONSGML kigkonsult.se iCalcreator 2.41.92//
CALSCALE:GREGORIAN
METHOD:PUBLISH
UID:65373062-3933-4035-a538-373866633830
X-WR-CALNAME:iCagenda
X-WR-CALDESC:Event Management Extension for Joomla!
X-WR-RELCALID:3E26604A-50F4-4449-8B3E-E4F4932D05B5
X-WR-TIMEZONE:UTC
BEGIN:VTIMEZONE
TZID:UTC
END:VTIMEZONE
BEGIN:VEVENT
UID:38356633-6634-4864-a461-323161303061
DTSTAMP:20260420T165203Z
CATEGORIES:Matinee
CLASS:PUBLIC
DESCRIPTION;ALTREP="CID:<FFFF__=0ABBE548DFE235B58f9e8a93d@coffeebean.com>":
 Saxofon-Quartett trifft auf Texte von Francois Villon\nDie nächste Matinée
  im Schloss Weilerbach bietet wieder ein sehr spannendes Programm. Musik u
 nd Literatur treffen aufeinander wie sie unterschiedlicher nicht sein könn
 ten.\nDas Saxoforte ist in einschlägigen Kreisen ein Begriff für exzellent
 e Klangkultur. Für&nbsp\;&nbsp\;&nbsp\;alle\,&nbsp\;&nbsp\;&nbsp\;die&nbsp
 \;&nbsp\;&nbsp\;die&nbsp\;&nbsp\;&nbsp\;Vielfalt&nbsp\;&nbsp\;&nbsp\;der&n
 bsp\;&nbsp\;&nbsp\;Saxophone&nbsp\;&nbsp\;&nbsp\;erleben&nbsp\;&nbsp\;&nbs
 p\;möchten\,&nbsp\;&nbsp\;&nbsp\;ist&nbsp\;Saxoforte&nbsp\;ein bsolutes&nb
 sp\;&nbsp\;Muss.&nbsp\;&nbsp\;Einen&nbsp\;&nbsp\;ersten&nbsp\;&nbsp\;Eindr
 uck&nbsp\;&nbsp\;vermittelt&nbsp\;&nbsp\;die&nbsp\;&nbsp\;Internetseite ww
 w.saxoforte.com. Neben&nbsp\;&nbsp\;&nbsp\;einem&nbsp\;&nbsp\;&nbsp\;varia
 ntenreichen&nbsp\;&nbsp\;&nbsp\;Klang&nbsp\;&nbsp\;&nbsp\;präsentiert&nbsp
 \;&nbsp\;&nbsp\;Saxoforte&nbsp\;&nbsp\;die&nbsp\;&nbsp\;ungeheure&nbsp\;&n
 bsp\;Klangvielfalt&nbsp\;&nbsp\;ihrer&nbsp\;Instrumentenfamilie.&nbsp\;Nic
 ht&nbsp\;&nbsp\;zuletzt&nbsp\;&nbsp\;mit&nbsp\;&nbsp\;Songs&nbsp\;aus&nbsp
 \;&nbsp\;Pop\,&nbsp\;&nbsp\;Jazz&nbsp\;&nbsp\;und&nbsp\;&nbsp\;Blues&nbsp\
 ; sowie&nbsp\;&nbsp\;mit&nbsp\;&nbsp\;Balladen&nbsp\;und&nbsp\;&nbsp\;Ever
 greens&nbsp\;&nbsp\;der&nbsp\;Swing-Ära&nbsp\;präsentieren&nbsp\;die&nbsp\
 ;&nbsp\;vier&nbsp\;Musiker&nbsp\;&nbsp\;die&nbsp\;&nbsp\;Bandbreite der Mu
 sik.\nIm&nbsp\;&nbsp\;&nbsp\;Herbst&nbsp\;&nbsp\;2009&nbsp\;&nbsp\;&nbsp\;
 gründeten&nbsp\;&nbsp\;&nbsp\;die&nbsp\;&nbsp\;&nbsp\;Musiker Wilfried Umb
 ach\, Walter Eich\, Markus Laux und Timo Mattes&nbsp\;&nbsp\;&nbsp\;dieses
  Quartett. Allesamt sind erfahrene Musiker\, die in manchen Bigbands spiel
 en oder gespielt haben.\nIm charmanten Kontrast dazu setzt Claudia Dylla T
 exte von Francois Villon in Szene\, frech\, unterhaltsam\, manche frivol. 
 Eine breite Palette.\n„Ich bin so wild nach deinem Erdbeermund' heißt das 
 Programm\, aus dem sie vorträgt.\nVillon hinterließ ein Werk von abgründig
 er Tiefe. Verblüffend geradezu\, wie das\, was Villon größtenteils im Kerk
 er schrieb\, noch heute\, oder sollte man sagen\, heute wieder\, unter den
  Nägeln brennt. Selten hat ein Dichter die Spannung zwischen Leiden\, gese
 llschaftlichem Zeitgeist und individueller Entfaltung drastischer geschild
 ert.&nbsp\;\nClaudia Dylla\, ausgezeichnet mit dem Darstellerpreis der Sta
 dt Berlin\, zeigt einen vielschichtigen\, einfühlsamen\, derben\, sowohl z
 ärtlichen als brutalen Dichter\, deftig\, sinnlich und elegant. Ein tiefgl
 äubiger Pfaffenfeind\, ein „Womanizer“ der dunklen Gassen\, ein Haudegen m
 it Akademikerpotenzial.\n\nDiese Matinée findet statt am Sonntag\, 14. Apr
 il 2019 von 11 – 12.30 Uhr im Festsaal des Schlosses Weilerbach bei Bollen
 dorf.\nDas Ticket kostet 10 Euro\, wer anschließend in der Remise auch noc
 h essen möchte\, zahlt 25\,00 Euro.\nKarten gibt es im Vorverkauf unter Fo
 n 06561-154270.\nMatinée im Schloss ist eine Gemeinschaftsveranstaltung de
 r Jazz-Initiative Eifel und der Schloss-Weilerbach-Gesellschaft.&nbsp\;&nb
 sp\;&nbsp\;&nbsp\;&nbsp\;&nbsp\;&nbsp\;&nbsp\;\n&nbsp\;&nbsp\;&nbsp\;&nbsp
 \;&nbsp\;&nbsp\;&nbsp\;&nbsp\;&nbsp\;&nbsp\;&nbsp\;&nbsp\;&nbsp\;&nbsp\;&n
 bsp\;&nbsp\;&nbsp\;&nbsp\;&nbsp\;&nbsp\;&nbsp\;&nbsp\;&nbsp\;&nbsp\;&nbsp\
 ;&nbsp\;&nbsp\;&nbsp\;&nbsp\;&nbsp\;&nbsp\;&nbsp\;&nbsp\;&nbsp\;&nbsp\;&nb
 sp\;&nbsp\;&nbsp\;&nbsp\;&nbsp\;&nbsp\;&nbsp\;&nbsp\;&nbsp\;&nbsp\;&nbsp\;
 &nbsp\;&nbsp\;&nbsp\;&nbsp\;&nbsp\;&nbsp\;&nbsp\;&nbsp\;&nbsp\;&nbsp\;&nbs
 p\;&nbsp\;&nbsp\;&nbsp\;&nbsp\;&nbsp\;&nbsp\;&nbsp\;&nbsp\;&nbsp\;&nbsp\;&
 nbsp\;&nbsp\;&nbsp\;&nbsp\;&nbsp\;&nbsp\;&nbsp\;&nbsp\;&nbsp\;&nbsp\;&nbsp
 \;&nbsp\;&nbsp\;&nbsp\;&nbsp\;&nbsp\;&nbsp\;&nbsp\;&nbsp\;&nbsp\;&nbsp\;&n
 bsp\;&nbsp\;&nbsp\;&nbsp\;&nbsp\;&nbsp\;&nbsp\;&nbsp\;&nbsp\;&nbsp\;&nbsp\
 ;&nbsp\;&nbsp\;&nbsp\;&nbsp\;
DTSTART:20190414T110000Z
DTEND:20190414T123000Z
GEO:00;0
LOCATION:Schloss Weilerbach
ORGANIZER:
SEQUENCE:1
SUMMARY:Matinée: Saxofon-Quartett trifft auf Texte von Francois Villon
TRANSP:OPAQUE
URL:http://jazztaxi.de/alle-termine/67-matinee-saxofon-quartett-trifft-auf-
 texte-von-francois-villon
END:VEVENT
END:VCALENDAR
