BEGIN:VCALENDAR
VERSION:2.0
PRODID:-//Jazz-Initiative Eifel e. V.//NONSGML kigkonsult.se iCalcreator 2.41.92//
CALSCALE:GREGORIAN
METHOD:PUBLISH
UID:32343163-6139-4539-a363-656135373135
X-WR-CALNAME:iCagenda
X-WR-CALDESC:Event Management Extension for Joomla!
X-WR-RELCALID:3E26604A-50F4-4449-8B3E-E4F4932D05B5
X-WR-TIMEZONE:UTC
BEGIN:VTIMEZONE
TZID:UTC
END:VTIMEZONE
BEGIN:VEVENT
UID:38366461-3636-4630-b837-373564363464
DTSTAMP:20260420T165203Z
CATEGORIES:Allgemein
CLASS:PUBLIC
DESCRIPTION;ALTREP="CID:<FFFF__=0ABBE548DFE235B58f9e8a93d@coffeebean.com>":
 Mit Standort zwischen Toulouse (Frankreich) und Luxemburg haben Bo &amp\; 
 The Sox seit 2022 die Bühnen\, Bars und Straßen des Großherzogtums durchst
 reift\, um ihr eigenes Interpretation von klassischen Blues-Standards mit 
 einem stets begeisterten Publikum zu teilen. Erleben und tanzen Sie zu den
  Klängen der besten alten Blues-Standards aus Chicago und darüber hinaus!
 \nBesetzung:\n\nBogdan (E-Gitarre\, Gesang)\nDavid Soul (E-Gitarre)\nSergi
 o Marx (Bassgitarre)\nTom Lehnert (Schlagzeug)\n\nhttps://boandthesox.wixs
 ite.com/blues\n\nMit der finanziellen Unterstützung des Café Miche und dem
  luxemburgischen Ministerium für Kultur.
DTSTART:20250920T213000Z
DTEND:20250920T234500Z
GEO:00;0
LOCATION:Café Miche\, Diekirch
ORGANIZER:
SEQUENCE:1
SUMMARY:Bo & The Sox
TRANSP:OPAQUE
URL:http://jazztaxi.de/alle-termine/667-bo-the-sox-2/2025-09-20-21-30
END:VEVENT
END:VCALENDAR
