BEGIN:VCALENDAR
VERSION:2.0
PRODID:-//Jazz-Initiative Eifel e. V.//NONSGML kigkonsult.se iCalcreator 2.41.92//
CALSCALE:GREGORIAN
METHOD:PUBLISH
UID:30363235-6562-4637-b039-643036613130
X-WR-CALNAME:iCagenda
X-WR-CALDESC:Event Management Extension for Joomla!
X-WR-RELCALID:3E26604A-50F4-4449-8B3E-E4F4932D05B5
X-WR-TIMEZONE:UTC
BEGIN:VTIMEZONE
TZID:UTC
END:VTIMEZONE
BEGIN:VEVENT
UID:33626434-6430-4136-b438-353162363334
DTSTAMP:20260420T155349Z
CATEGORIES:Allgemein
CLASS:PUBLIC
DESCRIPTION;ALTREP="CID:<FFFF__=0ABBE548DFE235B58f9e8a93d@coffeebean.com>":
 Mitreißender Groove\, technische Brillanz und ausdrucksstarke Kompositione
 n! Seit über einem Jahrzehnt begeistert das Jazz Trio des luxemburgischen 
 Schlagzeugers Paul Wiltgen sein Publikum in Europa und den USA.&nbsp\;\nDe
 r Sound des Trios bringt frischen Wind in das klassische Hammond-B3-Format
  und lotet dessen kreative Möglichkeiten neu aus. Das von der Presse gefei
 erte Album „Saturn's Spell“ erreichte Platz 2 der JazzWeek Charts in den V
 ereinigten Staaten und hielt sich zwei Monate lang in den Top 10. Es wurde
  außerdem als „MUST TSF“ auf TSF JAZZ in Frankreich hervorgehoben und fest
 igte den Ruf der Band als herausragendes Orgel-Trio.\nMit ihrem dritten Al
 bum „There You Have It“ schlägt The Organic Trio ein neues Kapitel auf – u
 nd beweist einmal mehr\, wie nahtlos musikalische Raffinesse und kreative 
 Synergie verschmelzen können. „Mitreißend\, ehrlich und voller Herzblut“ –
  The Organic Trio berührt mit einer Wärme\, die man fast als brüderlich be
 zeichnen könnte. Doch was die Musiker wirklich auszeichnet\, ist dieses in
 tuitive musikalische Verständnis – ein magischer sechster Sinn\, der nur d
 urch jahrelanges gemeinsames Touren und Hunderte gemeinsamer Auftritte ent
 steht!\nPressestimmen“One of New Orleansʼ best jazz guitarists” – Gambit W
 eekly\, USA«&nbsp\;...vraiment un son à l’américaine\, teinté d’une âm
 e et porteur d’une histoire »&nbsp\;– La Plume Culturelle\, FRANCE„Brian S
 eeger\, ...der dem Publikum den Atem nahm. Es ist die musikalische Vielfal
 t New Orleans\, die er entstehen lässt\, die den Raum einnimmt\, ...mitre
 ißende Rhythmen den Keller beben lassen.“ – Aachener Zeitung\, DEUTSCHLAND
 \nErwachsene: 26 € | Cube Card: 21 € | &lt\; 26 Jahren: 12 €Reservierung: 
 info@cube521.lu | + 352 521 521 |&nbsp\;www.cube521.luFoto © Peter Trümmer
 s
DTSTART:20260207T200000Z
DTEND:20260207T223000Z
GEO:00;0
LOCATION:Cube 521
ORGANIZER;CN=:mailto:info@cube521.lu
SEQUENCE:1
SUMMARY:Organic Trio
TRANSP:OPAQUE
URL:http://jazztaxi.de/alle-termine/662-organic-trio/2026-02-07-20-00
END:VEVENT
END:VCALENDAR
