BEGIN:VCALENDAR
VERSION:2.0
PRODID:-//Jazz-Initiative Eifel e. V.//NONSGML kigkonsult.se iCalcreator 2.41.92//
CALSCALE:GREGORIAN
METHOD:PUBLISH
UID:35633065-6532-4166-a434-333731373263
X-WR-CALNAME:iCagenda
X-WR-CALDESC:Event Management Extension for Joomla!
X-WR-RELCALID:3E26604A-50F4-4449-8B3E-E4F4932D05B5
X-WR-TIMEZONE:UTC
BEGIN:VTIMEZONE
TZID:UTC
END:VTIMEZONE
BEGIN:VEVENT
UID:31646662-3630-4535-b838-633930633133
DTSTAMP:20260420T155455Z
CATEGORIES:Allgemein
CLASS:PUBLIC
DESCRIPTION;ALTREP="CID:<FFFF__=0ABBE548DFE235B58f9e8a93d@coffeebean.com>":
 Ein Trio zwischen Jazzemotion und Klangperfektion!\nAls Pianist und Keyboa
 rder hat Bene Aperdannier die unterschiedlichsten Stimmen auf seine ganz e
 igene Art begleitet und wurde so an der Seite von SängerInnen vielen Mensc
 hen bekannt. Tango und World Jazz mit der argentinischen Sängerin Lily Dah
 ab\, Soul mit Joy Denalane und Jocelyn B. Smith\, Jazz mit Michael Schiefe
 l und Lisa Bassenge\, Hip Hop mit Freundeskreis und den Fantastischen Vier
  oder auch bei The Voice of Germany seit Beginn mit so unterschiedlichen K
 ünstlern wie Ed Sheeran\, James Blunt und Jason Derulo.Als Pianist spielte
  er Klavier für den Filmkomponisten Howard Shore („Herr der Ringe\, Hobbit
 “…) für den Oscar nominierten Film „Pieces of a woman“ ein. Er ist vielsei
 tig\, sensibel\, erkennbar und begeistert durch seine Art zu spielen. „Ich
  habe sehr viel mit SängerInnen gearbeitet\, auch für diese komponiert und
  arrangiert\, zu meiner musikalischen Identität gehört aber unbedingt das 
 instrumentale Trio Format.“ Bewusst wollte er nicht ein weiteres Piano Tri
 o mit Bass und Drums in die Welt setzen\, sondern vielmehr „mit dem Klangk
 osmos von Christian Kögel (Gitarre\, Oud\, Dobro…\, Zusammenarbeit u.a. mi
 t Jerry Granelli\, Jazzanova\, Flexkögel\, German All Stars) und den farbe
 nfrohen Grooves von Schlagzeuger Bernd Oezsevim (u.a. Zodiak Trio\, Gunter
  Hampel\, Angelika Niescier\, Dave Douglas) jonglieren.“Die Premiere des T
 rios war im November 2024 beim Rivertone Festival in Straubing\, vor der S
 WR Big Band. Nun folgt die Tour! Die Musik klingt „als wenn Miles Davis un
 d Fellinis Komponist Nino Rota sich bei Debussy auf einen Rotwein treffen 
 um dann gemeinsam mit Nils Frahm und Prince um die Häuser zu ziehen…“\nPre
 ssestimme\n„Mit dem Bene Aperdannier Trio zeichnet sich eine neue Supergro
 up auf dem Berliner Jazzparkett ab. Tastenzauberer Aperdannier bricht in e
 in Reich der puren Klangmagie auf. Er hat das Zeug mit seiner Musik ganz w
 eit vorne mitzuspielen in Deutschland.“&nbsp\;(Wolf Kampmann -&nbsp\;jazzt
 hing\,&nbsp\;Januar 2025)\nErwachsene: 26 € | Cube Card: 21 € | &lt\; 26 J
 ahren: 12 €Reservierung: info@cube521.lu | + 352 521 521 |&nbsp\;www.cube5
 21.luFoto © Alle Rechte vorbehalten
DTSTART:20260122T200000Z
DTEND:20260122T223000Z
GEO:00;0
LOCATION:Cube 521
ORGANIZER;CN=:mailto:info@cube521.lu
SEQUENCE:1
SUMMARY:Bene Aperdannier Trio
TRANSP:OPAQUE
URL:http://jazztaxi.de/alle-termine/661-bene-aperdannier-trio/2026-01-22-20
 -00
END:VEVENT
END:VCALENDAR
