BEGIN:VCALENDAR
VERSION:2.0
PRODID:-//Jazz-Initiative Eifel e. V.//NONSGML kigkonsult.se iCalcreator 2.41.92//
CALSCALE:GREGORIAN
METHOD:PUBLISH
UID:63376561-3164-4464-a664-643434333434
X-WR-CALNAME:iCagenda
X-WR-CALDESC:Event Management Extension for Joomla!
X-WR-RELCALID:3E26604A-50F4-4449-8B3E-E4F4932D05B5
X-WR-TIMEZONE:UTC
BEGIN:VTIMEZONE
TZID:UTC
END:VTIMEZONE
BEGIN:VEVENT
UID:32333763-6239-4934-b231-613738346138
DTSTAMP:20260420T155405Z
CATEGORIES:Allgemein
CLASS:PUBLIC
DESCRIPTION;ALTREP="CID:<FFFF__=0ABBE548DFE235B58f9e8a93d@coffeebean.com>":
 Mit Einfallsreichtum\, Leidenschaft und einer ansteckenden Energie\, die s
 owohl kraftvoll als auch zart ist\, verkörpert Kid Colling die Welt des al
 ternativen Blues Rock: eine Mischung aus Blues und Rock\, angereichert mit
  Soul und einem groovigen Rhythmus. Beeinflusst von Gitarristen wie Stevie
  Ray Vaughan\, The Black Keys und Joe Bonamassa\, drückt Colling die Essen
 z der „Roots“ durch die Wärme und Großzügigkeit seines Sounds und seines G
 itarrenspiels aus. Die Besetzung kann von Auftritt zu Auftritt variieren.
 \nBesetzung: Stephane Colling (E-Gitarre\, Gesang)\nhttps://kidcolling.com
 https://instagram.com/kid_colling\n\nIn Kooperation mit Bluebird Music ASB
 L https://blue-bird.lu/\nMit der finanziellen Unterstützung von Liquid Bar
 \, dem luxemburgischen Ministerium für Kultur\, der Stadt Luxemburg und SA
 CEM.
DTSTART:20251211T203000Z
DTEND:20251211T230000Z
GEO:00;0
LOCATION:Liquid Bar\, Luxemburg
ORGANIZER:
SEQUENCE:1
SUMMARY:Kid Colling & Friends
TRANSP:OPAQUE
URL:http://jazztaxi.de/alle-termine/645-kid-colling-friends/2025-12-11-20-3
 0
END:VEVENT
END:VCALENDAR
