BEGIN:VCALENDAR
VERSION:2.0
PRODID:-//Jazz-Initiative Eifel e. V.//NONSGML kigkonsult.se iCalcreator 2.41.92//
CALSCALE:GREGORIAN
METHOD:PUBLISH
UID:62343432-6566-4539-a639-626465393765
X-WR-CALNAME:iCagenda
X-WR-CALDESC:Event Management Extension for Joomla!
X-WR-RELCALID:3E26604A-50F4-4449-8B3E-E4F4932D05B5
X-WR-TIMEZONE:UTC
BEGIN:VTIMEZONE
TZID:UTC
END:VTIMEZONE
BEGIN:VEVENT
UID:34333030-3761-4661-b032-396262306661
DTSTAMP:20260421T131825Z
CATEGORIES:Allgemein
CLASS:PUBLIC
DESCRIPTION;ALTREP="CID:<FFFF__=0ABBE548DFE235B58f9e8a93d@coffeebean.com>":
 Neujahrskonzert 2026! Dutch Jazz Heritage: Frank Sinatra &amp\; Count Basi
 e\nFrank Sinatra ist zweifellos der größte Jazzsänger des 20. Jahrhunderts
 . Generationen sind mit Klassikern wie „Fly Me To The Moon“\, „I Get A Kic
 k Out Of You“ und „New York\, New York“ aufgewachsen. Frank Sinatra spielt
 e gerne und häufig mit Big Bands wie dem Count Basie Orchestra. Diese Konz
 erte wurden zu den kreativen Höhepunkten seiner Karriere und prägten seine
 n unverkennbaren Sound. Der Sänger\, der bereits zu Lebzeiten eine Legende
  war\, trat fünf Mal im Royal Concertgebouw in Amsterdam auf. Das Jazz Orc
 hestra of the Concertgebouw bringt daher eine ultimative Big-Band-Ode an d
 iese besonderen Konzerte. Der charismatische Sänger überzeugt mit viel Swi
 ng und natürlich den bestbekannten Hits!\nJazz Orchestra of the Concertgeb
 ouwDas Jazz Orchestra of the Concertgebouw ist mit dem berühmten Royal Con
 certgebouw in Amsterdam assoziiert und vereint die besten niederländischen
  Jazzmusiker. Das Orchester hat mit bekannten Persönlichkeiten wie „Toots“
  Thielemans\, Patty Austin\, Roy Hargrove\, Joshua Redman und kürzlich Jam
 es Carter zusammengearbeitet und ist weltweit in berühmten Spielstätten un
 d auf Festivals aufgetreten. Von New York bis Shanghai und von Rio de Jane
 iro bis Tokio.\nRuben HeinIm Rahmen des Neujahrskonzerts im Cube 521\, arb
 eitet das Orchester mit dem Pianisten und Sänger Ruben Hein zusammen. Hein
  ist für seine charakteristische\, warme Stimme und sein einzigartiges Kla
 vierspiel bekannt. Er schreibt gefühlvolle Popsongs\, die von verschiedene
 n Einflüssen wie Radiohead\, Thomas Dybdahl\, Paul Simon und Bill Withers 
 geprägt sind. Sein Debütalbum „Loose Fit“ und die Single „Elephants“ wurde
 n 2010 unter dem legendären Plattenlabel Blue Note veröffentlicht. Seitdem
  tourt er mit seiner eigenen Musik und spielte in den Niederlanden und im 
 Ausland\, unter anderem beim North Sea Jazz Festival\, dem Eurosonic Noord
 erslag\, dem Lowlands und dem Java Jazz Festival in Indonesien.\n&nbsp\;\n
 Foto © All rights reserved
DTSTART:20260104T180000Z
DTEND:20260104T210000Z
GEO:00;0
LOCATION:Cube 521
ORGANIZER;CN=:mailto:info@cube521.lu
SEQUENCE:1
SUMMARY:Jazz Orchestra of the Concertgebouw Amsterdam
TRANSP:OPAQUE
URL:http://jazztaxi.de/alle-termine/621-jazz-orchestra-of-the-concertgebouw
 -amsterdam/2026-01-04-18-00
END:VEVENT
END:VCALENDAR
