BEGIN:VCALENDAR
VERSION:2.0
PRODID:-//Jazz-Initiative Eifel e. V.//NONSGML kigkonsult.se iCalcreator 2.41.92//
CALSCALE:GREGORIAN
METHOD:PUBLISH
UID:64306665-3864-4631-b331-346465316663
X-WR-CALNAME:iCagenda
X-WR-CALDESC:Event Management Extension for Joomla!
X-WR-RELCALID:3E26604A-50F4-4449-8B3E-E4F4932D05B5
X-WR-TIMEZONE:UTC
BEGIN:VTIMEZONE
TZID:UTC
END:VTIMEZONE
BEGIN:VEVENT
UID:31656430-3632-4362-b039-396131326566
DTSTAMP:20260420T165304Z
CATEGORIES:Allgemein
CLASS:PUBLIC
DESCRIPTION;ALTREP="CID:<FFFF__=0ABBE548DFE235B58f9e8a93d@coffeebean.com>":
 Jazz im Löhrerhof\nKonzert mit der'Aachen Big Band' in unübertroffener Loc
 ation\, dem Löhrerhof in Hürth (Althürth). Unter der Leitung von Bernd Lec
 htenfeld wird es traditionellen BigBand Jazz geben u.a. mit Musik von Rich
 ard Rodgers\,&nbsp\;Leonard Bernstein\, D.Ellington\,&nbsp\;Pat Metheny&nb
 sp\;und Gil Evans.\nLöhrerhof\nLindenstr. 20\n50354 Hürth\n&nbsp\;\nEintri
 tt: 10€\nBeginn: 20h\n(Foto Löhrerhof: de.wikipedia.org)
DTSTART:20181107T200000Z
DTEND:20181107T200000Z
GEO:00;0
LOCATION:Löhrerhof Hürth
ORGANIZER;CN=:mailto:berndlechtenfeld@arcor.de
SEQUENCE:1
SUMMARY:Aachen Big Band im Löhrerhof
TRANSP:OPAQUE
URL:http://jazztaxi.de/alle-termine/61-aachen-big-band-im-loehrerhof/2018-1
 1-07-20-00
END:VEVENT
END:VCALENDAR
