BEGIN:VCALENDAR
VERSION:2.0
PRODID:-//Jazz-Initiative Eifel e. V.//NONSGML kigkonsult.se iCalcreator 2.41.92//
CALSCALE:GREGORIAN
METHOD:PUBLISH
UID:61633762-6539-4332-b538-643261636264
X-WR-CALNAME:iCagenda
X-WR-CALDESC:Event Management Extension for Joomla!
X-WR-RELCALID:3E26604A-50F4-4449-8B3E-E4F4932D05B5
X-WR-TIMEZONE:UTC
BEGIN:VTIMEZONE
TZID:UTC
END:VTIMEZONE
BEGIN:VEVENT
UID:31623834-6637-4637-b764-616537353038
DTSTAMP:20260420T155130Z
CATEGORIES:Allgemein
CLASS:PUBLIC
DESCRIPTION;ALTREP="CID:<FFFF__=0ABBE548DFE235B58f9e8a93d@coffeebean.com>":
 El José Y Ciccio Trio überarbeiten alle großen Klassiker der Blues-Pionier
 e\, von Howlin' Wolf über Muddy Waters bis hin zu Little Walter\, Buddy Gu
 y und Sonny Boy Williamson.\nLine-up:\n\nEl José (E-Gitarre\, Gesang)\nFra
 nco Ciccio (Gesang\, Harmonica)\nPaul Starczan (Cajón)\n\nhttps://el-jose.
 jimdosite.com\n\nIm Rahmen der Bluebird Coffee Sessions und in Kooperation
  mit Bluebird Music ASBL\, der Gemeinde Vianden und Colette Coffee Craft.
DTSTART:20251221T110000Z
DTEND:20251221T121500Z
GEO:00;0
LOCATION:Collette Coffee Craft\, Vianden
ORGANIZER:
SEQUENCE:1
SUMMARY:El José Y Ciccio Trio
TRANSP:OPAQUE
URL:http://jazztaxi.de/alle-termine/609-el-jose-y-ciccio-trio/2025-12-21-11
 -00
END:VEVENT
END:VCALENDAR
