BEGIN:VCALENDAR
VERSION:2.0
PRODID:-//Jazz-Initiative Eifel e. V.//NONSGML kigkonsult.se iCalcreator 2.41.92//
CALSCALE:GREGORIAN
METHOD:PUBLISH
UID:63653436-3263-4866-a236-316630326239
X-WR-CALNAME:iCagenda
X-WR-CALDESC:Event Management Extension for Joomla!
X-WR-RELCALID:3E26604A-50F4-4449-8B3E-E4F4932D05B5
X-WR-TIMEZONE:UTC
BEGIN:VTIMEZONE
TZID:UTC
END:VTIMEZONE
BEGIN:VEVENT
UID:64303538-6566-4461-a139-626630626263
DTSTAMP:20260420T165049Z
CATEGORIES:Jazzclub
CLASS:PUBLIC
DESCRIPTION;ALTREP="CID:<FFFF__=0ABBE548DFE235B58f9e8a93d@coffeebean.com>":
 Der Hamburger Schlagzeuger Björn Lücker und der Kölner Posaunist Andreas S
 chickentanz sind Musiker\,&nbsp\;\ndie unabhängig voneinander sich intensi
 v mit dem Möglichkeiten des Solospiels auseinander gesetzt haben.&nbsp\;\n
 So entstanden\, neben zahlreichen Konzerten\, auch zwei gelungene Tondokum
 ente\nAXIOM\, JHM 230 / Aquarian Drum Song\, creative sources recordings)
 \nIn diesem neuen Projekt fließen die jeweils individuellen Erfahrungen zu
 sammen&nbsp\;\nund bilden neue Schnittmengen.\nEine freie\, offene\, spann
 ende und immer wieder neu entstehende Musik\,&nbsp\;\ndie die einzelnen El
 emente kontrastreich verbinden.\n&nbsp\;SOLO/SOLO/DUO\n&nbsp\;https://www.
 loftkoeln.de/de/event/luecker-schickentanz-duo-live-mitschnitt
DTSTART:20181108T203100Z
DTEND:20181108T203100Z
GEO:00;0
LOCATION:Loft\, Köln
ORGANIZER:
SEQUENCE:1
SUMMARY:Lücker Schickentanz
TRANSP:OPAQUE
URL:http://jazztaxi.de/alle-termine/60-luecker-schickentanz/2018-11-08-20-3
 1
END:VEVENT
END:VCALENDAR
