BEGIN:VCALENDAR
VERSION:2.0
PRODID:-//Jazz-Initiative Eifel e. V.//NONSGML kigkonsult.se iCalcreator 2.41.92//
CALSCALE:GREGORIAN
METHOD:PUBLISH
UID:31313431-6139-4261-b333-643463336434
X-WR-CALNAME:iCagenda
X-WR-CALDESC:Event Management Extension for Joomla!
X-WR-RELCALID:3E26604A-50F4-4449-8B3E-E4F4932D05B5
X-WR-TIMEZONE:UTC
BEGIN:VTIMEZONE
TZID:UTC
END:VTIMEZONE
BEGIN:VEVENT
UID:65643066-6262-4636-b463-663064333863
DTSTAMP:20260420T155059Z
CATEGORIES:Summer-Jazz Festival
CLASS:PUBLIC
DESCRIPTION;ALTREP="CID:<FFFF__=0ABBE548DFE235B58f9e8a93d@coffeebean.com>":
 So wie der Jazz vielen unterschiedlichen Menschen und Personengruppen gefä
 llt\, so vereinigt er in sich auch viele Stilrichtungen und Gefühlslagen –
  das ist Programm für die RUNNING WILD JAZZBAND.\nVom New Orleans Style\, 
 Dixieland\, Chicago bis zum Swing\, gefühlvollen Standards und laszivem Ba
 r Jazz deckt die Band ein erfrischendes Spektrum ab. Sie baut auf eine 30j
 ährige Tradition auf und ist dabei so lebendig und temperamentvoll wie nie
  zuvor.\nIn der Besetzung Gesang Nadine Woog\, Klarinette/Saxophon Michael
  Kempf\, Posaune/Sousaphon Reimund Berg\, Banjo\, Piano Hermann Stute\, Ko
 ntrabass Dr. Hermann Theiß\, Schlagzeug HP Dregger zeichnet die Formation 
 eine große Spielfreude und ein harmonisches Miteinander aus – gerade richt
 ig für den Auftritt im Bedagarten.\nwww.jazzei.de\nRunning Wild spielen am
  MI\, 08. 08. 18 ab 19 Uhr im Bedagarten. Summer Jazz im Bedagarten ist ei
 ne Gemeinschaftsveranstaltung der Jazz-Initiative Eifel\, der Kulturgemein
 schaft Bitburg und der Dr.-Hanns-Simon-Stiftung.
DTSTART:20180808T190000Z
DTEND:20180808T213000Z
GEO:00;0
LOCATION:Garten Haus Beda\, Bitburg
ORGANIZER:
SEQUENCE:1
SUMMARY:Running Wild Jazzband spielt erfrischenden Summer-Jazz
TRANSP:OPAQUE
URL:http://jazztaxi.de/alle-termine/6-running-wild-jazzband-spielt-erfrisch
 enden-summer-jazz
END:VEVENT
END:VCALENDAR
