BEGIN:VCALENDAR
VERSION:2.0
PRODID:-//Jazz-Initiative Eifel e. V.//NONSGML kigkonsult.se iCalcreator 2.41.92//
CALSCALE:GREGORIAN
METHOD:PUBLISH
UID:30376331-3334-4730-a636-373566356139
X-WR-CALNAME:iCagenda
X-WR-CALDESC:Event Management Extension for Joomla!
X-WR-RELCALID:3E26604A-50F4-4449-8B3E-E4F4932D05B5
X-WR-TIMEZONE:UTC
BEGIN:VTIMEZONE
TZID:UTC
END:VTIMEZONE
BEGIN:VEVENT
UID:66613561-6332-4461-b430-636237323766
DTSTAMP:20260420T165259Z
CATEGORIES:Allgemein
CLASS:PUBLIC
DESCRIPTION;ALTREP="CID:<FFFF__=0ABBE548DFE235B58f9e8a93d@coffeebean.com>":
 Komm am 4. November 2018 ab 11 Uhr&nbsp\;in die\n&gt\;&gt\;Alte Scheune&lt
 \;&lt\;\nZum Bahnhof 10\, 54595 Weinsheim\ndenn die Polkageister&nbsp\;lad
 en Dich&nbsp\;zum traditionellen Frühshoppen&nbsp\;ein.Das BesondereDie Po
 lkageister sind ein von uns geförderter loser Zusammenschluß von Jazzmusik
 ern und Freunden der Blasmusik\, die sich dem Groove\, dem Blues und den i
 mproviatorischen Elementen der Böhmisch mährischen Polkamusik verschrieben
  haben.&nbsp\; An dieser Stelle sei&nbsp\; an Ernst Mosch erinnert\, der a
 ls Jazzmusiker seine Musikkariere gestartet hat. Ebenso ist sein Nachfolge
 r bei&nbsp\; den Original Egerländer Musikanten\, Ernst Hutter\,&nbsp\; Le
 adposaunist der SWR Bigband.\nDie Polkageister rekrutieren ihre Besetzung 
 aus einem größeren Pool von volksmusikbegeisterten hochkarätigen Musikern 
 aus der Eifel und den Ardennen. Viele Davon mit Jazz-Background. Ansonsten
  erinnert die Aufstellung auch gerne an die früheren Erfolge der Eifeler D
 orfmusikanten. Nur mit insgesamt etwas kleineren Besetzung. Besonders freu
 en wir uns\, dass wir nicht nur den Gründer der Eifeler Dorfmusikanten son
 dern auch einige seiner damaligen Musiker und dabei&nbsp\; auch Jazzer für
  uns gewinnen konnten und mit an Bord haben. &nbsp\;Was hat die Polka eige
 ntlich mit dem Jazz zu tun ? Das beantworten die 12 hochkarätigen Musiker 
 der Polkageister gerne bei Ihren Konzerten. Bei beiden Musikstilen handelt
  es sich schließlich um starke\, mit Emotionen beladene aber Lebensbejahen
 de fröhliche Musik\, die zu Ihrer zu ihrer erfolgreichen Performance ein g
 ewisses Können erfordern. Gerade eine Polka zeichnet sich nicht dadurch au
 s\, dass ihre Melodie wie von einer Maschine abgespielt wird. Vielmehr erw
 artet das Publikum eine emotionsgeladene lebendige Interpretation. Wichtig
  ist dabei\, dass der Musiker ein Gefühl dafür hat. Im Jazz würde man sage
 n\, er hat die Groove.Im Mikrotiming definiert sich die Kunst einer optima
 len Interpretation. Das empfinden des Musikers was nur durch Jahrelange Pr
 axis erlernbar ist trennt die Spreu vom Weizen. Wer könnte also das 'mosch
 ige' Gefühl der böhmisch-mährischen Blasmusik besser wiedergeben als blues
 erfahrene\, grovende Jazzer\,&nbsp\; die das notwendige Mikrotiming beherr
 schen und es gewohnt sind\, den Stimmungsgehalt ihrer Musik improvisatoris
 ch stilecht wiederzugeben.&nbsp\;So ist es kein Wunder\, dass die Blaskape
 lle zu einem sehr großen Teil mit erfahrenen Jazzern besetzt ist. Dies hör
 t man nicht unbedingt jazzig raus\, sondern ist lediglich die Grundlage fü
 r das originale lockere Musizieren. Mit ihrem Namen 'Polkageister' wollen 
 die Musiker zum Ausdruck bringen\, dass sie den Geist dieser Musik in sich
  tragen.&nbsp\;Das Motto der Musiker 'blasen statt spucken' weist darauf h
 in\, dass hier keine Gespenster am Werk sind. Vielmehr handelt es sich hie
 r um eine mit gestandenen Jazzerfahrenen Musikern besetzte Blaskapelle.Die
  Jazz-Initiative Eifel&nbsp\; begleitet das Projekt positiv und möchte ein
 e gleichzeitige Entwicklung der Volksmusik zu Jazz hin unterstützen.
DTSTART:20181104T110000Z
DTEND:20181104T110000Z
GEO:00;0
LOCATION:
ORGANIZER:
SEQUENCE:1
SUMMARY:Traditioneller Frühshoppen am 4.11.2018
TRANSP:OPAQUE
URL:http://jazztaxi.de/alle-termine/58-traditioneller-fruehshoppen-am-4-11-
 2018
END:VEVENT
END:VCALENDAR
