BEGIN:VCALENDAR
VERSION:2.0
PRODID:-//Jazz-Initiative Eifel e. V.//NONSGML kigkonsult.se iCalcreator 2.41.92//
CALSCALE:GREGORIAN
METHOD:PUBLISH
UID:34653965-3239-4665-b634-393266613466
X-WR-CALNAME:iCagenda
X-WR-CALDESC:Event Management Extension for Joomla!
X-WR-RELCALID:3E26604A-50F4-4449-8B3E-E4F4932D05B5
X-WR-TIMEZONE:UTC
BEGIN:VTIMEZONE
TZID:UTC
END:VTIMEZONE
BEGIN:VEVENT
UID:36653736-6635-4439-a263-383364326266
DTSTAMP:20260420T205141Z
CATEGORIES:Allgemein
CLASS:PUBLIC
DESCRIPTION:
DTSTART:20250321T190000Z
DTEND:20250323T185600Z
GEO:00;0
LOCATION:Schloss Weilerbach/Bollendorf\, Festsaal
ORGANIZER:
SEQUENCE:1
SUMMARY:Schloss-Weilerbacher Kulturtage 2025
TRANSP:OPAQUE
URL:http://jazztaxi.de/alle-termine/578-schloss-weilerbacher-kulturtage-202
 5
END:VEVENT
END:VCALENDAR
